FILENAME: O4611058.SWS.1004702.tif
QUADRANGLE_NAME: WALLROCK
QUADRANT: SW
WEST_LONGITUDE: -110 52 30.00000
EAST_LONGITUDE: -110 48 45.00000
NORTH_LATITUDE: 46 3 45.00000
SOUTH_LATITUDE: 46 0 0.00000
PRODUCTION_DATE: 1999 5 11
RASTER_ORDER: LEFT_RIGHT/TOP_BOTTOM
BAND_ORGANIZATION: SINGLE FILE
BAND_CONTENT: BLACK&WHITE
BAND_CONTENT: UNDEFINED
BAND_CONTENT: UNDEFINED
BITS_PER_PIXEL: 8
SAMPLES_AND_LINES: 5512 7565
HORIZONTAL_DATUM: NAD83
HORIZONTAL_COORDINATE_SYSTEM: UTM
COORDINATE_ZONE: 12
HORIZONTAL_UNITS: METERS
HORIZONTAL_RESOLUTION: 1.00000
SECONDARY_HORIZONTAL_DATUM: NAD27
XY_ORIGIN: 509307.00000 5101310.00000
SECONDARY_XY_ORIGIN: 509367.02000 5101099.68900
NATION: US
STATE: MT
NW_QUAD_CORNER_XY: 509668.13500 5100999.30300
NE_QUAD_CORNER_XY: 514502.20200 5101008.79600
SE_QUAD_CORNERY_XY: 514518.55800 5094064.58100
SW_QUAD_CORNER_XY: 509679.03900 5094055.08700
SECONDARY_NW_QUAD_XY: 509668.42700 5100781.29100
SECONDARY_NE_QUAD_XY: 514502.64000 5100790.78400
SECONDARY_SE_QUAD_XY: 514518.99600 5093846.61000
SECONDARY_SW_QUAD_XY: 509679.33100 5093837.11600
RMSE_XY: 1.00000
IMAGE_SOURCE: BLACK AND WHITE FILM
SOURCE_IMAGE_ID: NAPP 11009 154
SOURCE_IMAGE_DATE: 1998 7 22
SOURCE_DEM_DATE: 1999 5 11
AGENCY: WESTERN MAPPING CENTER (WMC)
PRODUCER: WESTERN MAPPING CENTER (WMC)
PRODUCTION_SYSTEM: DV2.6.3 10/9OV2.4 5/95
COMPRESSION: UNDEFINED
STANDARD_VERSION: 1996 12
METADATA_DATE: 1999 5 24
DATA_FILE_SIZE: 41703792
BYTE_COUNT: 5512
