FILENAME: O4611056.SES.1115239.tif
QUADRANGLE_NAME: PORCUPINE BUTTE
QUADRANT: SE
WEST_LONGITUDE: -110 3 45.00000
EAST_LONGITUDE: -110 0 0.00000
NORTH_LATITUDE: 46 11 15.00000
SOUTH_LATITUDE: 46 7 30.00000
PRODUCTION_DATE: 2000 11 10
RASTER_ORDER: LEFT_RIGHT/TOP_BOTTOM
BAND_ORGANIZATION: SINGLE FILE
BAND_CONTENT: BLACK&WHITE
BAND_CONTENT: UNDEFINED
BAND_CONTENT: UNDEFINED
BITS_PER_PIXEL: 8
SAMPLES_AND_LINES: 5580 7650
HORIZONTAL_DATUM: NAD83
HORIZONTAL_COORDINATE_SYSTEM: UTM
COORDINATE_ZONE: 12
HORIZONTAL_UNITS: METERS
HORIZONTAL_RESOLUTION: 1.00000
SECONDARY_HORIZONTAL_DATUM: NAD27
XY_ORIGIN: 571980.00000 5115690.00000
SECONDARY_XY_ORIGIN: 572039.37700 5115477.96300
NATION: US
STATE: MT
NW_QUAD_CORNER_XY: 572347.07200 5115307.50200
NE_QUAD_CORNER_XY: 577170.19100 5115366.35400
SE_QUAD_CORNERY_XY: 577257.61400 5108422.02500
SW_QUAD_CORNER_XY: 572429.03000 5108363.16900
SECONDARY_NW_QUAD_XY: 572349.26300 5115089.42100
SECONDARY_NE_QUAD_XY: 577172.52800 5115148.27500
SECONDARY_SE_QUAD_XY: 577259.95100 5108203.98700
SECONDARY_SW_QUAD_XY: 572431.22100 5108145.12800
RMSE_XY: 0.94000
IMAGE_SOURCE: BLACK AND WHITE FILM
SOURCE_IMAGE_ID: NAPP 9172 17
SOURCE_IMAGE_DATE: 1997 08 23
SOURCE_DEM_DATE: 1972 00 00
AGENCY: WESTERN MAPPING CENTER (WMC)
PRODUCER: ANALYTICAL SURVEYS INC.
PRODUCTION_SYSTEM: ORBIT OR_RECTIFY V.5.2
COMPRESSION: UNDEFINED
STANDARD_VERSION: 1996 12
METADATA_DATE: 2000 11 13
DATA_FILE_SIZE: 42692580
BYTE_COUNT: 5580
