FILENAME: O4611054.SES.1145751.tif
QUADRANGLE_NAME: LOCO MOUNTAIN
QUADRANT: SE
WEST_LONGITUDE: -110 18 45.00000
EAST_LONGITUDE: -110 15 0.00000
NORTH_LATITUDE: 46 11 15.00000
SOUTH_LATITUDE: 46 7 30.00000
PRODUCTION_DATE: 2001 03 21
RASTER_ORDER: LEFT_RIGHT/TOP_BOTTOM
BAND_ORGANIZATION: SINGLE FILE
BAND_CONTENT: BLACK&WHITE
BAND_CONTENT: UNDEFINED
BAND_CONTENT: UNDEFINED
BITS_PER_PIXEL: 8
SAMPLES_AND_LINES: 5580 7650
HORIZONTAL_DATUM: NAD83
HORIZONTAL_COORDINATE_SYSTEM: UTM
COORDINATE_ZONE: 12
HORIZONTAL_UNITS: METERS
HORIZONTAL_RESOLUTION: 1.00000
SECONDARY_HORIZONTAL_DATUM: NAD27
XY_ORIGIN: 552690.00000 5115480.00000
SECONDARY_XY_ORIGIN: 552749.18500 5115268.52200
NATION: US
STATE: MT
NW_QUAD_CORNER_XY: 553054.56300 5115110.06800
NE_QUAD_CORNER_XY: 557877.69500 5115153.73100
SE_QUAD_CORNERY_XY: 557943.25900 5108209.38400
SW_QUAD_CORNER_XY: 553114.66300 5108165.71800
SECONDARY_NW_QUAD_XY: 553056.17000 5114891.98100
SECONDARY_NE_QUAD_XY: 557879.44800 5114935.64500
SECONDARY_SE_QUAD_XY: 557945.01200 5107991.33900
SECONDARY_SW_QUAD_XY: 553116.27000 5107947.67100
RMSE_XY: 2.47000
IMAGE_SOURCE: BLACK AND WHITE FILM
SOURCE_IMAGE_ID: NAPP 9185 152
SOURCE_IMAGE_DATE: 1998 07 20
SOURCE_IMAGE_ID: NAPP 9185 154
SOURCE_IMAGE_DATE: 1998 07 20
SOURCE_IMAGE_ID: NAPP 9185 150
SOURCE_IMAGE_DATE: 1998 07 20
SOURCE_DEM_DATE: 1993 00 00
AGENCY: WESTERN MAPPING CENTER (WMC)
PRODUCER: ANALYTICAL SURVEYS INC.
PRODUCTION_SYSTEM: ORBIT OR_RECTIFY V.5.2
COMPRESSION: UNDEFINED
STANDARD_VERSION: 1996 12
METADATA_DATE: 2001 05 25
DATA_FILE_SIZE: 42692580
BYTE_COUNT: 5580
