FILENAME: O4611054.SWS.1145752.tif
QUADRANGLE_NAME: LOCO MOUNTAIN
QUADRANT: SW
WEST_LONGITUDE: -110 22 30.00000
EAST_LONGITUDE: -110 18 45.00000
NORTH_LATITUDE: 46 11 15.00000
SOUTH_LATITUDE: 46 7 30.00000
PRODUCTION_DATE: 2001 03 21
RASTER_ORDER: LEFT_RIGHT/TOP_BOTTOM
BAND_ORGANIZATION: SINGLE FILE
BAND_CONTENT: BLACK&WHITE
BAND_CONTENT: UNDEFINED
BAND_CONTENT: UNDEFINED
BITS_PER_PIXEL: 8
SAMPLES_AND_LINES: 5580 7620
HORIZONTAL_DATUM: NAD83
HORIZONTAL_COORDINATE_SYSTEM: UTM
COORDINATE_ZONE: 12
HORIZONTAL_UNITS: METERS
HORIZONTAL_RESOLUTION: 1.00000
SECONDARY_HORIZONTAL_DATUM: NAD27
XY_ORIGIN: 547860.00000 5115420.00000
SECONDARY_XY_ORIGIN: 547919.19800 5115208.63500
NATION: US
STATE: MT
NW_QUAD_CORNER_XY: 548231.42900 5115070.20200
NE_QUAD_CORNER_XY: 553054.56300 5115110.06800
SE_QUAD_CORNERY_XY: 553114.66300 5108165.71800
SW_QUAD_CORNER_XY: 548286.06500 5108125.84900
SECONDARY_NW_QUAD_XY: 548232.89000 5114852.11500
SECONDARY_NE_QUAD_XY: 553056.17000 5114891.98100
SECONDARY_SE_QUAD_XY: 553116.27000 5107947.67100
SECONDARY_SW_QUAD_XY: 548287.52600 5107907.80100
RMSE_XY: 2.48000
IMAGE_SOURCE: BLACK AND WHITE FILM
SOURCE_IMAGE_ID: NAPP 11016 6
SOURCE_IMAGE_DATE: 1998 08 25
SOURCE_IMAGE_ID: NAPP 11009 97
SOURCE_IMAGE_DATE: 1998 07 22
SOURCE_IMAGE_ID: NAPP 11016 8
SOURCE_IMAGE_DATE: 1998 08 25
SOURCE_DEM_DATE: 1993 00 00
AGENCY: WESTERN MAPPING CENTER (WMC)
PRODUCER: ANALYTICAL SURVEYS INC.
PRODUCTION_SYSTEM: ORBIT OR_RECTIFY V.5.2
COMPRESSION: UNDEFINED
STANDARD_VERSION: 1996 12
METADATA_DATE: 2001 05 24
DATA_FILE_SIZE: 42525180
BYTE_COUNT: 5580
