FILENAME: O4611052.SES.1145743.tif
QUADRANGLE_NAME: SCAB ROCK MOUNTAIN
QUADRANT: SE
WEST_LONGITUDE: -110 33 45.00000
EAST_LONGITUDE: -110 30 0.00000
NORTH_LATITUDE: 46 11 15.00000
SOUTH_LATITUDE: 46 7 30.00000
PRODUCTION_DATE: 2001 03 21
RASTER_ORDER: LEFT_RIGHT/TOP_BOTTOM
BAND_ORGANIZATION: SINGLE FILE
BAND_CONTENT: BLACK&WHITE
BAND_CONTENT: UNDEFINED
BAND_CONTENT: UNDEFINED
BITS_PER_PIXEL: 8
SAMPLES_AND_LINES: 5550 7620
HORIZONTAL_DATUM: NAD83
HORIZONTAL_COORDINATE_SYSTEM: UTM
COORDINATE_ZONE: 12
HORIZONTAL_UNITS: METERS
HORIZONTAL_RESOLUTION: 1.00000
SECONDARY_HORIZONTAL_DATUM: NAD27
XY_ORIGIN: 533400.00000 5115330.00000
SECONDARY_XY_ORIGIN: 533459.28300 5115118.96700
NATION: US
STATE: MT
NW_QUAD_CORNER_XY: 533762.01400 5114973.38800
NE_QUAD_CORNER_XY: 538585.15400 5115001.86200
SE_QUAD_CORNERY_XY: 538628.86300 5108057.50300
SW_QUAD_CORNER_XY: 533800.25900 5108029.02600
SECONDARY_NW_QUAD_XY: 533763.03600 5114755.29700
SECONDARY_NE_QUAD_XY: 538586.32300 5114783.77300
SECONDARY_SE_QUAD_XY: 538630.03100 5107839.45300
SECONDARY_SW_QUAD_XY: 533801.28100 5107810.97500
RMSE_XY: 3.58000
IMAGE_SOURCE: BLACK AND WHITE FILM
SOURCE_IMAGE_ID: NAPP 9167 26
SOURCE_IMAGE_DATE: 1996 08 26
SOURCE_IMAGE_ID: NAPP 9167 28
SOURCE_IMAGE_DATE: 1996 08 26
SOURCE_DEM_DATE: 1992 00 00
AGENCY: WESTERN MAPPING CENTER (WMC)
PRODUCER: ANALYTICAL SURVEYS INC.
PRODUCTION_SYSTEM: ORBIT OR_RECTIFY V.5.2
COMPRESSION: UNDEFINED
STANDARD_VERSION: 1996 12
METADATA_DATE: 2001 05 24
DATA_FILE_SIZE: 42296550
BYTE_COUNT: 5550
