FILENAME: O4611052.SWS.1145744.tif
QUADRANGLE_NAME: SCAB ROCK MOUNTAIN
QUADRANT: SW
WEST_LONGITUDE: -110 37 30.00000
EAST_LONGITUDE: -110 33 45.00000
NORTH_LATITUDE: 46 11 15.00000
SOUTH_LATITUDE: 46 7 30.00000
PRODUCTION_DATE: 2001 03 21
RASTER_ORDER: LEFT_RIGHT/TOP_BOTTOM
BAND_ORGANIZATION: SINGLE FILE
BAND_CONTENT: BLACK&WHITE
BAND_CONTENT: UNDEFINED
BAND_CONTENT: UNDEFINED
BITS_PER_PIXEL: 8
SAMPLES_AND_LINES: 5550 7620
HORIZONTAL_DATUM: NAD83
HORIZONTAL_COORDINATE_SYSTEM: UTM
COORDINATE_ZONE: 12
HORIZONTAL_UNITS: METERS
HORIZONTAL_RESOLUTION: 1.00000
SECONDARY_HORIZONTAL_DATUM: NAD27
XY_ORIGIN: 528570.00000 5115300.00000
SECONDARY_XY_ORIGIN: 528629.33700 5115089.07200
NATION: US
STATE: MT
NW_QUAD_CORNER_XY: 528938.87200 5114948.71000
NE_QUAD_CORNER_XY: 533762.01400 5114973.38800
SE_QUAD_CORNERY_XY: 533800.25900 5108029.02600
SW_QUAD_CORNER_XY: 528971.65300 5108004.34600
SECONDARY_NW_QUAD_XY: 528939.74900 5114730.61800
SECONDARY_NE_QUAD_XY: 533763.03600 5114755.29700
SECONDARY_SE_QUAD_XY: 533801.28100 5107810.97500
SECONDARY_SW_QUAD_XY: 528972.52900 5107786.29400
RMSE_XY: 1.72000
IMAGE_SOURCE: BLACK AND WHITE FILM
SOURCE_IMAGE_ID: NAPP 11006 15
SOURCE_IMAGE_DATE: 1998 07 21
SOURCE_IMAGE_ID: NAPP 9167 26
SOURCE_IMAGE_DATE: 1996 08 26
SOURCE_DEM_DATE: 1992 00 00
AGENCY: WESTERN MAPPING CENTER (WMC)
PRODUCER: ANALYTICAL SURVEYS INC.
PRODUCTION_SYSTEM: ORBIT OR_RECTIFY V.5.2
COMPRESSION: UNDEFINED
STANDARD_VERSION: 1996 12
METADATA_DATE: 2001 05 24
DATA_FILE_SIZE: 42296550
BYTE_COUNT: 5550
