FILENAME: O4611051.NWS.1112059.tif
QUADRANGLE_NAME: WOLF HILL
QUADRANT: NW
WEST_LONGITUDE: -110 45 0.00000
EAST_LONGITUDE: -110 41 15.00000
NORTH_LATITUDE: 46 15 0.00000
SOUTH_LATITUDE: 46 11 15.00000
PRODUCTION_DATE: 2000 10 03
RASTER_ORDER: LEFT_RIGHT/TOP_BOTTOM
BAND_ORGANIZATION: SINGLE FILE
BAND_CONTENT: BLACK&WHITE
BAND_CONTENT: UNDEFINED
BAND_CONTENT: UNDEFINED
BITS_PER_PIXEL: 8
SAMPLES_AND_LINES: 5520 7620
HORIZONTAL_DATUM: NAD83
HORIZONTAL_COORDINATE_SYSTEM: UTM
COORDINATE_ZONE: 12
HORIZONTAL_UNITS: METERS
HORIZONTAL_RESOLUTION: 1.00000
SECONDARY_HORIZONTAL_DATUM: NAD27
XY_ORIGIN: 518910.00000 5122200.00000
SECONDARY_XY_ORIGIN: 518969.24700 5121989.13100
NATION: US
STATE: MT
NW_QUAD_CORNER_XY: 519270.70700 5121855.18700
NE_QUAD_CORNER_XY: 524088.38200 5121872.27000
SE_QUAD_CORNERY_XY: 524115.72900 5114927.82800
SW_QUAD_CORNER_XY: 519292.58400 5114910.74400
SECONDARY_NW_QUAD_XY: 519271.29200 5121637.05500
SECONDARY_NE_QUAD_XY: 524089.11300 5121654.13900
SECONDARY_SE_QUAD_XY: 524116.45900 5114709.73600
SECONDARY_SW_QUAD_XY: 519293.16900 5114692.65100
RMSE_XY: 1.22000
IMAGE_SOURCE: BLACK AND WHITE FILM
SOURCE_IMAGE_ID: NAPP 9183 56
SOURCE_IMAGE_DATE: 1997 09 09
SOURCE_IMAGE_ID: NAPP 9183 49
SOURCE_IMAGE_DATE: 1997 09 09
SOURCE_IMAGE_ID: NAPP 9183 54
SOURCE_IMAGE_DATE: 1997 09 09
SOURCE_DEM_DATE: 1951 00 00
AGENCY: WESTERN MAPPING CENTER (WMC)
PRODUCER: ANALYTICAL SURVEYS INC.
PRODUCTION_SYSTEM: ORBIT OR_RECTIFY V.5.2
COMPRESSION: UNDEFINED
STANDARD_VERSION: 1996 12
METADATA_DATE: 2000 10 03
DATA_FILE_SIZE: 42067920
BYTE_COUNT: 5520
