FILENAME: O4611049.SES.1004709.tif
QUADRANGLE_NAME: SIXTEEN
QUADRANT: SE
WEST_LONGITUDE: -110 56 15.00000
EAST_LONGITUDE: -110 52 30.00000
NORTH_LATITUDE: 46 11 15.00000
SOUTH_LATITUDE: 46 7 30.00000
PRODUCTION_DATE: 1999 5 10
RASTER_ORDER: LEFT_RIGHT/TOP_BOTTOM
BAND_ORGANIZATION: SINGLE FILE
BAND_CONTENT: BLACK&WHITE
BAND_CONTENT: UNDEFINED
BAND_CONTENT: UNDEFINED
BITS_PER_PIXEL: 8
SAMPLES_AND_LINES: 5496 7561
HORIZONTAL_DATUM: NAD83
HORIZONTAL_COORDINATE_SYSTEM: UTM
COORDINATE_ZONE: 12
HORIZONTAL_UNITS: METERS
HORIZONTAL_RESOLUTION: 1.00000
SECONDARY_HORIZONTAL_DATUM: NAD27
XY_ORIGIN: 504463.00000 5115189.00000
SECONDARY_XY_ORIGIN: 504522.76400 5114978.48400
NATION: US
STATE: MT
NW_QUAD_CORNER_XY: 504823.14700 5114882.27000
NE_QUAD_CORNER_XY: 509646.29300 5114887.96400
SE_QUAD_CORNERY_XY: 509657.22000 5107943.59600
SW_QUAD_CORNER_XY: 504828.61000 5107937.90000
SECONDARY_NW_QUAD_XY: 504823.29300 5114664.17600
SECONDARY_NE_QUAD_XY: 509646.58500 5114669.87100
SECONDARY_SE_QUAD_XY: 509657.51200 5107725.54200
SECONDARY_SW_QUAD_XY: 504828.75600 5107719.84700
RMSE_XY: 1.20000
IMAGE_SOURCE: BLACK AND WHITE FILM
SOURCE_IMAGE_ID: NAPP 11008 042
SOURCE_IMAGE_DATE: 1998 7 21
SOURCE_DEM_DATE: 1999 5 10
AGENCY: WESTERN MAPPING CENTER (WMC)
PRODUCER: WESTERN MAPPING CENTER (WMC)
PRODUCTION_SYSTEM: DV2.6.3 10/9OV2.4 5/95
COMPRESSION: UNDEFINED
STANDARD_VERSION: 1996 12
METADATA_DATE: 1999 5 24
DATA_FILE_SIZE: 41560752
BYTE_COUNT: 5496
