FILENAME: O4611164.SWS.998345.tif
QUADRANGLE_NAME: BLACKTAIL MOUNTAIN
QUADRANT: SW
WEST_LONGITUDE: -111 7 30.00000
EAST_LONGITUDE: -111 3 45.00000
NORTH_LATITUDE: 46 3 45.00000
SOUTH_LATITUDE: 46 0 0.00000
PRODUCTION_DATE: 1999 4 26
RASTER_ORDER: LEFT_RIGHT/TOP_BOTTOM
BAND_ORGANIZATION: SINGLE FILE
BAND_CONTENT: BLACK&WHITE
BAND_CONTENT: UNDEFINED
BAND_CONTENT: UNDEFINED
BITS_PER_PIXEL: 8
SAMPLES_AND_LINES: 5508 7560
HORIZONTAL_DATUM: NAD83
HORIZONTAL_COORDINATE_SYSTEM: UTM
COORDINATE_ZONE: 12
HORIZONTAL_UNITS: METERS
HORIZONTAL_RESOLUTION: 1.00000
SECONDARY_HORIZONTAL_DATUM: NAD27
XY_ORIGIN: 489959.00000 5101300.00000
SECONDARY_XY_ORIGIN: 490019.36600 5101089.74400
NATION: US
STATE: MT
NW_QUAD_CORNER_XY: 490331.86500 5100999.30300
NE_QUAD_CORNER_XY: 495165.93200 5100993.60800
SE_QUAD_CORNERY_XY: 495160.48000 5094049.39100
SW_QUAD_CORNER_XY: 490320.96100 5094055.08700
SECONDARY_NW_QUAD_XY: 490331.57300 5100781.29100
SECONDARY_NE_QUAD_XY: 495165.78600 5100775.59500
SECONDARY_SE_QUAD_XY: 495160.33400 5093831.42000
SECONDARY_SW_QUAD_XY: 490320.66900 5093837.11600
RMSE_XY: 2.00000
IMAGE_SOURCE: BLACK AND WHITE FILM
SOURCE_IMAGE_ID: NAPP 9180 067
SOURCE_IMAGE_DATE: 1997 9 7
SOURCE_DEM_DATE: 1980 0 0
AGENCY: ROCKY MOUNTAIN MAPPING CENTER (RMMC)
PRODUCER: ROCKY MOUNTAIN MAPPING CENTER (RMMC)
PRODUCTION_SYSTEM: DV2.6.3 10/9OV2.4 5/95
COMPRESSION: UNDEFINED
STANDARD_VERSION: 1996 12
METADATA_DATE: 1999 4 27
DATA_FILE_SIZE: 41645988
BYTE_COUNT: 5508
