FILENAME: O4611161.SES.998299.tif
QUADRANGLE_NAME: LOMBARD
QUADRANT: SE
WEST_LONGITUDE: -111 26 15.00000
EAST_LONGITUDE: -111 22 30.00000
NORTH_LATITUDE: 46 3 45.00000
SOUTH_LATITUDE: 46 0 0.00000
PRODUCTION_DATE: 1999 4 21
RASTER_ORDER: LEFT_RIGHT/TOP_BOTTOM
BAND_ORGANIZATION: SINGLE FILE
BAND_CONTENT: BLACK&WHITE
BAND_CONTENT: UNDEFINED
BAND_CONTENT: UNDEFINED
BITS_PER_PIXEL: 8
SAMPLES_AND_LINES: 5536 7580
HORIZONTAL_DATUM: NAD83
HORIZONTAL_COORDINATE_SYSTEM: UTM
COORDINATE_ZONE: 12
HORIZONTAL_UNITS: METERS
HORIZONTAL_RESOLUTION: 1.00000
SECONDARY_HORIZONTAL_DATUM: NAD27
XY_ORIGIN: 465760.00000 5101386.00000
SECONDARY_XY_ORIGIN: 465820.79300 5101175.58000
NATION: US
STATE: MT
NW_QUAD_CORNER_XY: 466161.53700 5101084.74100
NE_QUAD_CORNER_XY: 470995.60100 5101060.05900
SE_QUAD_CORNERY_XY: 470962.88900 5094115.84700
SW_QUAD_CORNER_XY: 466123.37400 5094140.53100
SECONDARY_NW_QUAD_XY: 466160.51500 5100866.73100
SECONDARY_NE_QUAD_XY: 470994.72500 5100842.04800
SECONDARY_SE_QUAD_XY: 470962.01300 5093897.87800
SECONDARY_SW_QUAD_XY: 466122.35200 5093922.56200
RMSE_XY: 3.50000
IMAGE_SOURCE: BLACK AND WHITE FILM
SOURCE_IMAGE_ID: NAPP 9171 166
SOURCE_IMAGE_DATE: 1997 8 22
SOURCE_DEM_DATE: 1980 0 0
AGENCY: ROCKY MOUNTAIN MAPPING CENTER (RMMC)
PRODUCER: ROCKY MOUNTAIN MAPPING CENTER (RMMC)
PRODUCTION_SYSTEM: DV2.6.3 10/9OV2.4 5/95
COMPRESSION: UNDEFINED
STANDARD_VERSION: 1996 12
METADATA_DATE: 1999 4 21
DATA_FILE_SIZE: 41968416
BYTE_COUNT: 5536
