FILENAME: O4611158.SWS.1153713.tif
QUADRANGLE_NAME: WILLOW SPRINGS
QUADRANT: SW
WEST_LONGITUDE: -111 52 30.00000
EAST_LONGITUDE: -111 48 45.00000
NORTH_LATITUDE: 46 3 45.00000
SOUTH_LATITUDE: 46 0 0.00000
PRODUCTION_DATE: 2001 08 02
RASTER_ORDER: LEFT_RIGHT/TOP_BOTTOM
BAND_ORGANIZATION: SINGLE FILE
BAND_CONTENT: BLACK&WHITE
BAND_CONTENT: UNDEFINED
BAND_CONTENT: UNDEFINED
BITS_PER_PIXEL: 8
SAMPLES_AND_LINES: 5580 7620
HORIZONTAL_DATUM: NAD83
HORIZONTAL_COORDINATE_SYSTEM: UTM
COORDINATE_ZONE: 12
HORIZONTAL_UNITS: METERS
HORIZONTAL_RESOLUTION: 1.00000
SECONDARY_HORIZONTAL_DATUM: NAD27
XY_ORIGIN: 431880.00000 5101680.00000
SECONDARY_XY_ORIGIN: 431941.39900 5101469.36200
NATION: US
STATE: MT
NW_QUAD_CORNER_XY: 432323.14500 5101363.84600
NE_QUAD_CORNER_XY: 437157.19400 5101312.58100
SE_QUAD_CORNERY_XY: 437086.31500 5094368.38800
SW_QUAD_CORNER_XY: 432246.81300 5094419.65700
SECONDARY_NW_QUAD_XY: 432321.10000 5101145.84400
SECONDARY_NE_QUAD_XY: 437155.29600 5101094.57700
SECONDARY_SE_QUAD_XY: 437084.41800 5094150.42600
SECONDARY_SW_QUAD_XY: 432244.76900 5094201.69700
RMSE_XY: 1.86000
IMAGE_SOURCE: BLACK AND WHITE FILM
SOURCE_IMAGE_ID: NAPP 11009 8
SOURCE_IMAGE_DATE: 1998 07 22
SOURCE_DEM_DATE: 1980 00 00
AGENCY: WESTERN MAPPING CENTER (WMC)
PRODUCER: ANALYTICAL SURVEYS INC.
PRODUCTION_SYSTEM: ORBIT OR_RECTIFY V.5.2
COMPRESSION: UNDEFINED
STANDARD_VERSION: 1996 12
METADATA_DATE: 2001 08 03
DATA_FILE_SIZE: 42525180
BYTE_COUNT: 5580
