FILENAME: O4611156.SES.998295.tif
QUADRANGLE_NAME: FRANCIS
QUADRANT: SE
WEST_LONGITUDE: -111 3 45.00000
EAST_LONGITUDE: -111 0 0.00000
NORTH_LATITUDE: 46 11 15.00000
SOUTH_LATITUDE: 46 7 30.00000
PRODUCTION_DATE: 1999 4 27
RASTER_ORDER: LEFT_RIGHT/TOP_BOTTOM
BAND_ORGANIZATION: SINGLE FILE
BAND_CONTENT: BLACK&WHITE
BAND_CONTENT: UNDEFINED
BAND_CONTENT: UNDEFINED
BITS_PER_PIXEL: 8
SAMPLES_AND_LINES: 5492 7557
HORIZONTAL_DATUM: NAD83
HORIZONTAL_COORDINATE_SYSTEM: UTM
COORDINATE_ZONE: 12
HORIZONTAL_UNITS: METERS
HORIZONTAL_RESOLUTION: 1.00000
SECONDARY_HORIZONTAL_DATUM: NAD27
XY_ORIGIN: 494810.00000 5115183.00000
SECONDARY_XY_ORIGIN: 494869.99400 5114972.52900
NATION: US
STATE: MT
NW_QUAD_CORNER_XY: 495176.85300 5114882.27000
NE_QUAD_CORNER_XY: 500000.00000 5114880.37100
SE_QUAD_CORNERY_XY: 500000.00000 5107936.00200
SW_QUAD_CORNER_XY: 495171.39000 5107937.90000
SECONDARY_NW_QUAD_XY: 495176.70700 5114664.17600
SECONDARY_NE_QUAD_XY: 500000.00000 5114662.27800
SECONDARY_SE_QUAD_XY: 500000.00000 5107717.94800
SECONDARY_SW_QUAD_XY: 495171.24400 5107719.84700
RMSE_XY: 1.80000
IMAGE_SOURCE: BLACK AND WHITE FILM
SOURCE_IMAGE_ID: NAPP 9165 010
SOURCE_IMAGE_DATE: 1996 7 24
SOURCE_DEM_DATE: 1980 0 0
AGENCY: ROCKY MOUNTAIN MAPPING CENTER (RMMC)
PRODUCER: ROCKY MOUNTAIN MAPPING CENTER (RMMC)
PRODUCTION_SYSTEM: DV2.6.3 10/9OV2.4 5/95
COMPRESSION: UNDEFINED
STANDARD_VERSION: 1996 12
METADATA_DATE: 1999 4 28
DATA_FILE_SIZE: 41508536
BYTE_COUNT: 5492
