FILENAME: O4611155.NES.998289.tif
QUADRANGLE_NAME: SIXMILE MOUNTAIN
QUADRANT: NE
WEST_LONGITUDE: -111 11 15.00000
EAST_LONGITUDE: -111 7 30.00000
NORTH_LATITUDE: 46 15 0.00000
SOUTH_LATITUDE: 46 11 15.00000
PRODUCTION_DATE: 1999 4 27
RASTER_ORDER: LEFT_RIGHT/TOP_BOTTOM
BAND_ORGANIZATION: SINGLE FILE
BAND_CONTENT: BLACK&WHITE
BAND_CONTENT: UNDEFINED
BAND_CONTENT: UNDEFINED
BITS_PER_PIXEL: 8
SAMPLES_AND_LINES: 5496 7565
HORIZONTAL_DATUM: NAD83
HORIZONTAL_COORDINATE_SYSTEM: UTM
COORDINATE_ZONE: 12
HORIZONTAL_UNITS: METERS
HORIZONTAL_RESOLUTION: 1.00000
SECONDARY_HORIZONTAL_DATUM: NAD27
XY_ORIGIN: 485169.00000 5122143.00000
SECONDARY_XY_ORIGIN: 485229.13700 5121932.37900
NATION: US
STATE: MT
NW_QUAD_CORNER_XY: 485546.96800 5121841.90000
NE_QUAD_CORNER_XY: 490364.64500 5121832.40900
SE_QUAD_CORNERY_XY: 490353.70700 5114887.96400
SW_QUAD_CORNER_XY: 485530.56100 5114897.45600
SECONDARY_NW_QUAD_XY: 485546.53000 5121623.76800
SECONDARY_NE_QUAD_XY: 490364.35300 5121614.27700
SECONDARY_SE_QUAD_XY: 490353.41500 5114669.87100
SECONDARY_SW_QUAD_XY: 485530.12300 5114679.36300
RMSE_XY: 1.70000
IMAGE_SOURCE: BLACK AND WHITE FILM
SOURCE_IMAGE_ID: NAPP 9180 076
SOURCE_IMAGE_DATE: 1997 9 7
SOURCE_DEM_DATE: 1980 0 0
AGENCY: ROCKY MOUNTAIN MAPPING CENTER (RMMC)
PRODUCER: ROCKY MOUNTAIN MAPPING CENTER (RMMC)
PRODUCTION_SYSTEM: DV2.6.3 10/9OV2.4 5/95
COMPRESSION: UNDEFINED
STANDARD_VERSION: 1996 12
METADATA_DATE: 1999 4 28
DATA_FILE_SIZE: 41582736
BYTE_COUNT: 5496
