FILENAME: O4611152.SWS.1154538.tif
QUADRANGLE_NAME: PARKER
QUADRANT: SW
WEST_LONGITUDE: -111 37 30.00000
EAST_LONGITUDE: -111 33 45.00000
NORTH_LATITUDE: 46 11 15.00000
SOUTH_LATITUDE: 46 7 30.00000
PRODUCTION_DATE: 2001 07 26
RASTER_ORDER: LEFT_RIGHT/TOP_BOTTOM
BAND_ORGANIZATION: SINGLE FILE
BAND_CONTENT: BLACK&WHITE
BAND_CONTENT: UNDEFINED
BAND_CONTENT: UNDEFINED
BITS_PER_PIXEL: 8
SAMPLES_AND_LINES: 5550 7620
HORIZONTAL_DATUM: NAD83
HORIZONTAL_COORDINATE_SYSTEM: UTM
COORDINATE_ZONE: 12
HORIZONTAL_UNITS: METERS
HORIZONTAL_RESOLUTION: 1.00000
SECONDARY_HORIZONTAL_DATUM: NAD27
XY_ORIGIN: 451350.00000 5115390.00000
SECONDARY_XY_ORIGIN: 451410.91100 5115179.31600
NATION: US
STATE: MT
NW_QUAD_CORNER_XY: 451768.57100 5115070.20200
NE_QUAD_CORNER_XY: 456591.70700 5115034.13400
SE_QUAD_CORNERY_XY: 456542.53500 5108089.77800
SW_QUAD_CORNER_XY: 451713.93500 5108125.84900
SECONDARY_NW_QUAD_XY: 451767.11000 5114852.11500
SECONDARY_NE_QUAD_XY: 456590.39300 5114816.04500
SECONDARY_SE_QUAD_XY: 456541.22100 5107871.72900
SECONDARY_SW_QUAD_XY: 451712.47400 5107907.80100
RMSE_XY: 0.96000
IMAGE_SOURCE: BLACK AND WHITE FILM
SOURCE_IMAGE_ID: NAPP 9181 118
SOURCE_IMAGE_DATE: 1997 09 09
SOURCE_DEM_DATE: 1980 00 00
AGENCY: WESTERN MAPPING CENTER (WMC)
PRODUCER: ANALYTICAL SURVEYS INC.
PRODUCTION_SYSTEM: ORBIT OR_RECTIFY V.5.2
COMPRESSION: UNDEFINED
STANDARD_VERSION: 1996 12
METADATA_DATE: 2001 07 27
DATA_FILE_SIZE: 42296550
BYTE_COUNT: 5550
