FILENAME: O4611149.SWS.1153733.tif
QUADRANGLE_NAME: TACOMA PARK
QUADRANT: SW
WEST_LONGITUDE: -112 0 0.00000
EAST_LONGITUDE: -111 56 15.00000
NORTH_LATITUDE: 46 11 15.00000
SOUTH_LATITUDE: 46 7 30.00000
PRODUCTION_DATE: 2001 08 02
RASTER_ORDER: LEFT_RIGHT/TOP_BOTTOM
BAND_ORGANIZATION: SINGLE FILE
BAND_CONTENT: BLACK&WHITE
BAND_CONTENT: UNDEFINED
BAND_CONTENT: UNDEFINED
BITS_PER_PIXEL: 8
SAMPLES_AND_LINES: 5610 7650
HORIZONTAL_DATUM: NAD83
HORIZONTAL_COORDINATE_SYSTEM: UTM
COORDINATE_ZONE: 12
HORIZONTAL_UNITS: METERS
HORIZONTAL_RESOLUTION: 1.00000
SECONDARY_HORIZONTAL_DATUM: NAD27
XY_ORIGIN: 422370.00000 5115690.00000
SECONDARY_XY_ORIGIN: 422431.51200 5115479.17600
NATION: US
STATE: MT
NW_QUAD_CORNER_XY: 422829.80900 5115366.35400
NE_QUAD_CORNER_XY: 427652.92800 5115307.50200
SE_QUAD_CORNERY_XY: 427570.97000 5108363.16900
SW_QUAD_CORNER_XY: 422742.38600 5108422.02500
SECONDARY_NW_QUAD_XY: 422827.47200 5115148.27500
SECONDARY_NE_QUAD_XY: 427650.73700 5115089.42100
SECONDARY_SE_QUAD_XY: 427568.77900 5108145.12800
SECONDARY_SW_QUAD_XY: 422740.04900 5108203.98700
RMSE_XY: 1.04000
IMAGE_SOURCE: BLACK AND WHITE FILM
SOURCE_IMAGE_ID: NAPP 11009 46
SOURCE_IMAGE_DATE: 1998 07 22
SOURCE_DEM_DATE: 1980 00 00
AGENCY: WESTERN MAPPING CENTER (WMC)
PRODUCER: ANALYTICAL SURVEYS INC.
PRODUCTION_SYSTEM: ORBIT OR_RECTIFY V.5.2
COMPRESSION: UNDEFINED
STANDARD_VERSION: 1996 12
METADATA_DATE: 2001 08 03
DATA_FILE_SIZE: 42922110
BYTE_COUNT: 5610
