FILENAME: O4611146.NES.1154551.tif
QUADRANGLE_NAME: LIPPERT GULCH
QUADRANT: NE
WEST_LONGITUDE: -111 18 45.00000
EAST_LONGITUDE: -111 15 0.00000
NORTH_LATITUDE: 46 22 30.00000
SOUTH_LATITUDE: 46 18 45.00000
PRODUCTION_DATE: 2001 07 26
RASTER_ORDER: LEFT_RIGHT/TOP_BOTTOM
BAND_ORGANIZATION: SINGLE FILE
BAND_CONTENT: BLACK&WHITE
BAND_CONTENT: UNDEFINED
BAND_CONTENT: UNDEFINED
BITS_PER_PIXEL: 8
SAMPLES_AND_LINES: 5520 7620
HORIZONTAL_DATUM: NAD83
HORIZONTAL_COORDINATE_SYSTEM: UTM
COORDINATE_ZONE: 12
HORIZONTAL_UNITS: METERS
HORIZONTAL_RESOLUTION: 1.00000
SECONDARY_HORIZONTAL_DATUM: NAD27
XY_ORIGIN: 475560.00000 5136090.00000
SECONDARY_XY_ORIGIN: 475620.22800 5135878.94600
NATION: US
STATE: MT
NW_QUAD_CORNER_XY: 475966.39700 5135761.38000
NE_QUAD_CORNER_XY: 480773.11600 5135744.30100
SE_QUAD_CORNERY_XY: 480751.19300 5128799.70500
SW_QUAD_CORNER_XY: 475938.99300 5128816.78700
SECONDARY_NW_QUAD_XY: 475965.66600 5135543.17400
SECONDARY_NE_QUAD_XY: 480772.53100 5135526.09400
SECONDARY_SE_QUAD_XY: 480750.60800 5128581.53600
SECONDARY_SW_QUAD_XY: 475938.26200 5128598.61800
RMSE_XY: 1.64000
IMAGE_SOURCE: BLACK AND WHITE FILM
SOURCE_IMAGE_ID: NAPP 9180 114
SOURCE_IMAGE_DATE: 1997 09 07
SOURCE_IMAGE_ID: NAPP 9180 112
SOURCE_IMAGE_DATE: 1997 09 07
SOURCE_DEM_DATE: 1980 00 00
AGENCY: WESTERN MAPPING CENTER (WMC)
PRODUCER: ANALYTICAL SURVEYS INC.
PRODUCTION_SYSTEM: ORBIT OR_RECTIFY V.5.2
COMPRESSION: UNDEFINED
STANDARD_VERSION: 1996 12
METADATA_DATE: 2001 07 30
DATA_FILE_SIZE: 42067920
BYTE_COUNT: 5520
