FILENAME: O4611137.NES.1154543.tif
QUADRANGLE_NAME: GURNETT CREEK WEST
QUADRANT: NE
WEST_LONGITUDE: -111 26 15.00000
EAST_LONGITUDE: -111 22 30.00000
NORTH_LATITUDE: 46 30 0.00000
SOUTH_LATITUDE: 46 26 15.00000
PRODUCTION_DATE: 2001 07 26
RASTER_ORDER: LEFT_RIGHT/TOP_BOTTOM
BAND_ORGANIZATION: SINGLE FILE
BAND_CONTENT: BLACK&WHITE
BAND_CONTENT: UNDEFINED
BAND_CONTENT: UNDEFINED
BITS_PER_PIXEL: 8
SAMPLES_AND_LINES: 5520 7620
HORIZONTAL_DATUM: NAD83
HORIZONTAL_COORDINATE_SYSTEM: UTM
COORDINATE_ZONE: 12
HORIZONTAL_UNITS: METERS
HORIZONTAL_RESOLUTION: 1.00000
SECONDARY_HORIZONTAL_DATUM: NAD27
XY_ORIGIN: 466020.00000 5150010.00000
SECONDARY_XY_ORIGIN: 466080.26700 5149798.59400
NATION: US
STATE: MT
NW_QUAD_CORNER_XY: 466429.81600 5149696.33200
NE_QUAD_CORNER_XY: 471225.55200 5149671.66600
SE_QUAD_CORNERY_XY: 471192.59800 5142726.92300
SW_QUAD_CORNER_XY: 466391.36900 5142751.59200
SECONDARY_NW_QUAD_XY: 466428.79200 5149478.05500
SECONDARY_NE_QUAD_XY: 471224.67500 5149453.38800
SECONDARY_SE_QUAD_XY: 471191.72100 5142508.68100
SECONDARY_SW_QUAD_XY: 466390.34600 5142533.35000
RMSE_XY: 3.37000
IMAGE_SOURCE: BLACK AND WHITE FILM
SOURCE_IMAGE_ID: NAPP 9171 180
SOURCE_IMAGE_DATE: 1997 08 22
SOURCE_IMAGE_ID: NAPP 9171 178
SOURCE_IMAGE_DATE: 1997 08 22
SOURCE_DEM_DATE: 1993 00 00
AGENCY: WESTERN MAPPING CENTER (WMC)
PRODUCER: ANALYTICAL SURVEYS INC.
PRODUCTION_SYSTEM: ORBIT OR_RECTIFY V.5.2
COMPRESSION: UNDEFINED
STANDARD_VERSION: 1996 12
METADATA_DATE: 2001 07 30
DATA_FILE_SIZE: 42067920
BYTE_COUNT: 5520
