FILENAME: O4611137.NWS.1154544.tif
QUADRANGLE_NAME: GURNETT CREEK WEST
QUADRANT: NW
WEST_LONGITUDE: -111 30 0.00000
EAST_LONGITUDE: -111 26 15.00000
NORTH_LATITUDE: 46 30 0.00000
SOUTH_LATITUDE: 46 26 15.00000
PRODUCTION_DATE: 2001 07 26
RASTER_ORDER: LEFT_RIGHT/TOP_BOTTOM
BAND_ORGANIZATION: SINGLE FILE
BAND_CONTENT: BLACK&WHITE
BAND_CONTENT: UNDEFINED
BAND_CONTENT: UNDEFINED
BITS_PER_PIXEL: 8
SAMPLES_AND_LINES: 5520 7620
HORIZONTAL_DATUM: NAD83
HORIZONTAL_COORDINATE_SYSTEM: UTM
COORDINATE_ZONE: 12
HORIZONTAL_UNITS: METERS
HORIZONTAL_RESOLUTION: 1.00000
SECONDARY_HORIZONTAL_DATUM: NAD27
XY_ORIGIN: 461220.00000 5150040.00000
SECONDARY_XY_ORIGIN: 461280.35900 5149828.61300
NATION: US
STATE: MT
NW_QUAD_CORNER_XY: 461634.08100 5149724.79300
NE_QUAD_CORNER_XY: 466429.81600 5149696.33200
SE_QUAD_CORNERY_XY: 466391.36900 5142751.59200
SW_QUAD_CORNER_XY: 461590.14200 5142780.05500
SECONDARY_NW_QUAD_XY: 461632.91100 5149506.51600
SECONDARY_NE_QUAD_XY: 466428.79200 5149478.05500
SECONDARY_SE_QUAD_XY: 466390.34600 5142533.35000
SECONDARY_SW_QUAD_XY: 461588.97200 5142561.81500
RMSE_XY: 1.18000
IMAGE_SOURCE: BLACK AND WHITE FILM
SOURCE_IMAGE_ID: NAPP 9181 26
SOURCE_IMAGE_DATE: 1997 09 09
SOURCE_IMAGE_ID: NAPP 9171 180
SOURCE_IMAGE_DATE: 1997 08 22
SOURCE_DEM_DATE: 1993 00 00
AGENCY: WESTERN MAPPING CENTER (WMC)
PRODUCER: ANALYTICAL SURVEYS INC.
PRODUCTION_SYSTEM: ORBIT OR_RECTIFY V.5.2
COMPRESSION: UNDEFINED
STANDARD_VERSION: 1996 12
METADATA_DATE: 2001 07 30
DATA_FILE_SIZE: 42067920
BYTE_COUNT: 5520
