FILENAME: O4611137.SWS.1154546.tif
QUADRANGLE_NAME: GURNETT CREEK WEST
QUADRANT: SW
WEST_LONGITUDE: -111 30 0.00000
EAST_LONGITUDE: -111 26 15.00000
NORTH_LATITUDE: 46 26 15.00000
SOUTH_LATITUDE: 46 22 30.00000
PRODUCTION_DATE: 2001 07 26
RASTER_ORDER: LEFT_RIGHT/TOP_BOTTOM
BAND_ORGANIZATION: SINGLE FILE
BAND_CONTENT: BLACK&WHITE
BAND_CONTENT: UNDEFINED
BAND_CONTENT: UNDEFINED
BITS_PER_PIXEL: 8
SAMPLES_AND_LINES: 5550 7620
HORIZONTAL_DATUM: NAD83
HORIZONTAL_COORDINATE_SYSTEM: UTM
COORDINATE_ZONE: 12
HORIZONTAL_UNITS: METERS
HORIZONTAL_RESOLUTION: 1.00000
SECONDARY_HORIZONTAL_DATUM: NAD27
XY_ORIGIN: 461160.00000 5143110.00000
SECONDARY_XY_ORIGIN: 461220.43400 5142898.77600
NATION: US
STATE: MT
NW_QUAD_CORNER_XY: 461590.14200 5142780.05500
NE_QUAD_CORNER_XY: 466391.36900 5142751.59200
SE_QUAD_CORNERY_XY: 466352.96300 5135806.92700
SW_QUAD_CORNER_XY: 461546.24800 5135835.39400
SECONDARY_NW_QUAD_XY: 461588.97200 5142561.81500
SECONDARY_NE_QUAD_XY: 466390.34600 5142533.35000
SECONDARY_SE_QUAD_XY: 466351.94000 5135588.72200
SECONDARY_SW_QUAD_XY: 461545.07900 5135617.18900
RMSE_XY: 0.96000
IMAGE_SOURCE: BLACK AND WHITE FILM
SOURCE_IMAGE_ID: NAPP 9181 28
SOURCE_IMAGE_DATE: 1997 09 09
SOURCE_DEM_DATE: 1993 00 00
AGENCY: WESTERN MAPPING CENTER (WMC)
PRODUCER: ANALYTICAL SURVEYS INC.
PRODUCTION_SYSTEM: ORBIT OR_RECTIFY V.5.2
COMPRESSION: UNDEFINED
STANDARD_VERSION: 1996 12
METADATA_DATE: 2001 07 30
DATA_FILE_SIZE: 42296550
BYTE_COUNT: 5550
