FILENAME: O4611136.NES.1154503.tif
QUADRANGLE_NAME: TOWNSEND NE
QUADRANT: NE
WEST_LONGITUDE: -111 33 45.00000
EAST_LONGITUDE: -111 30 0.00000
NORTH_LATITUDE: 46 30 0.00000
SOUTH_LATITUDE: 46 26 15.00000
PRODUCTION_DATE: 2001 07 24
RASTER_ORDER: LEFT_RIGHT/TOP_BOTTOM
BAND_ORGANIZATION: SINGLE FILE
BAND_CONTENT: BLACK&WHITE
BAND_CONTENT: UNDEFINED
BAND_CONTENT: UNDEFINED
BITS_PER_PIXEL: 8
SAMPLES_AND_LINES: 5520 7620
HORIZONTAL_DATUM: NAD83
HORIZONTAL_COORDINATE_SYSTEM: UTM
COORDINATE_ZONE: 12
HORIZONTAL_UNITS: METERS
HORIZONTAL_RESOLUTION: 1.00000
SECONDARY_HORIZONTAL_DATUM: NAD27
XY_ORIGIN: 456420.00000 5150070.00000
SECONDARY_XY_ORIGIN: 456480.45400 5149858.61100
NATION: US
STATE: MT
NW_QUAD_CORNER_XY: 456838.34800 5149757.04800
NE_QUAD_CORNER_XY: 461634.08100 5149724.79300
SE_QUAD_CORNERY_XY: 461590.14200 5142780.05500
SW_QUAD_CORNER_XY: 456788.91600 5142812.31500
SECONDARY_NW_QUAD_XY: 456837.03200 5149538.77300
SECONDARY_NE_QUAD_XY: 461632.91100 5149506.51600
SECONDARY_SE_QUAD_XY: 461588.97200 5142561.81500
SECONDARY_SW_QUAD_XY: 456787.60000 5142594.07500
RMSE_XY: 0.48000
IMAGE_SOURCE: BLACK AND WHITE FILM
SOURCE_IMAGE_ID: NAPP 9181 57
SOURCE_IMAGE_DATE: 1997 09 09
SOURCE_DEM_DATE: 1993 00 00
AGENCY: WESTERN MAPPING CENTER (WMC)
PRODUCER: ANALYTICAL SURVEYS INC.
PRODUCTION_SYSTEM: ORBIT OR_RECTIFY V.5.2
COMPRESSION: UNDEFINED
STANDARD_VERSION: 1996 12
METADATA_DATE: 2001 07 26
DATA_FILE_SIZE: 42067920
BYTE_COUNT: 5520
