FILENAME: O4611135.NES.1154523.tif
QUADRANGLE_NAME: WINSTON
QUADRANT: NE
WEST_LONGITUDE: -111 41 15.00000
EAST_LONGITUDE: -111 37 30.00000
NORTH_LATITUDE: 46 30 0.00000
SOUTH_LATITUDE: 46 26 15.00000
PRODUCTION_DATE: 2001 07 25
RASTER_ORDER: LEFT_RIGHT/TOP_BOTTOM
BAND_ORGANIZATION: SINGLE FILE
BAND_CONTENT: BLACK&WHITE
BAND_CONTENT: UNDEFINED
BAND_CONTENT: UNDEFINED
BITS_PER_PIXEL: 8
SAMPLES_AND_LINES: 5550 7620
HORIZONTAL_DATUM: NAD83
HORIZONTAL_COORDINATE_SYSTEM: UTM
COORDINATE_ZONE: 12
HORIZONTAL_UNITS: METERS
HORIZONTAL_RESOLUTION: 1.00000
SECONDARY_HORIZONTAL_DATUM: NAD27
XY_ORIGIN: 446820.00000 5150160.00000
SECONDARY_XY_ORIGIN: 446880.64600 5149948.60600
NATION: US
STATE: MT
NW_QUAD_CORNER_XY: 447246.89100 5149832.94500
NE_QUAD_CORNER_XY: 452042.61800 5149793.09900
SE_QUAD_CORNERY_XY: 451987.69400 5142848.36900
SW_QUAD_CORNER_XY: 447186.47400 5142888.21900
SECONDARY_NW_QUAD_XY: 447245.28300 5149614.67200
SECONDARY_NE_QUAD_XY: 452041.15600 5149574.82500
SECONDARY_SE_QUAD_XY: 451986.23200 5142630.13000
SECONDARY_SW_QUAD_XY: 447184.86500 5142669.98200
RMSE_XY: 1.93000
IMAGE_SOURCE: BLACK AND WHITE FILM
SOURCE_IMAGE_ID: NAPP 9181 139
SOURCE_IMAGE_DATE: 1997 09 09
SOURCE_DEM_DATE: 1993 00 00
AGENCY: WESTERN MAPPING CENTER (WMC)
PRODUCER: ANALYTICAL SURVEYS INC.
PRODUCTION_SYSTEM: ORBIT OR_RECTIFY V.5.2
COMPRESSION: UNDEFINED
STANDARD_VERSION: 1996 12
METADATA_DATE: 2001 07 26
DATA_FILE_SIZE: 42296550
BYTE_COUNT: 5550
