FILENAME: O4611127.SES.1154521.tif
QUADRANGLE_NAME: CANYON FERRY SW
QUADRANT: SE
WEST_LONGITUDE: -111 41 15.00000
EAST_LONGITUDE: -111 37 30.00000
NORTH_LATITUDE: 46 33 45.00000
SOUTH_LATITUDE: 46 30 0.00000
PRODUCTION_DATE: 2001 07 25
RASTER_ORDER: LEFT_RIGHT/TOP_BOTTOM
BAND_ORGANIZATION: SINGLE FILE
BAND_CONTENT: BLACK&WHITE
BAND_CONTENT: UNDEFINED
BAND_CONTENT: UNDEFINED
BITS_PER_PIXEL: 8
SAMPLES_AND_LINES: 5520 7620
HORIZONTAL_DATUM: NAD83
HORIZONTAL_COORDINATE_SYSTEM: UTM
COORDINATE_ZONE: 12
HORIZONTAL_UNITS: METERS
HORIZONTAL_RESOLUTION: 1.00000
SECONDARY_HORIZONTAL_DATUM: NAD27
XY_ORIGIN: 446880.00000 5157090.00000
SECONDARY_XY_ORIGIN: 446940.59600 5156878.40200
NATION: US
STATE: MT
NW_QUAD_CORNER_XY: 447307.37200 5156777.74600
NE_QUAD_CORNER_XY: 452097.60000 5156737.90500
SE_QUAD_CORNERY_XY: 452042.61800 5149793.09900
SW_QUAD_CORNER_XY: 447246.89100 5149832.94500
SECONDARY_NW_QUAD_XY: 447305.76300 5156559.43800
SECONDARY_NE_QUAD_XY: 452096.13800 5156519.59500
SECONDARY_SE_QUAD_XY: 452041.15600 5149574.82500
SECONDARY_SW_QUAD_XY: 447245.28300 5149614.67200
RMSE_XY: 1.47000
IMAGE_SOURCE: BLACK AND WHITE FILM
SOURCE_IMAGE_ID: NAPP 9181 141
SOURCE_IMAGE_DATE: 1997 09 09
SOURCE_DEM_DATE: 1993 00 00
AGENCY: WESTERN MAPPING CENTER (WMC)
PRODUCER: ANALYTICAL SURVEYS INC.
PRODUCTION_SYSTEM: ORBIT OR_RECTIFY V.5.2
COMPRESSION: UNDEFINED
STANDARD_VERSION: 1996 12
METADATA_DATE: 2001 07 26
DATA_FILE_SIZE: 42067920
BYTE_COUNT: 5520
