FILENAME: O4611126.SWS.1153697.tif
QUADRANGLE_NAME: LOUISVILLE
QUADRANT: SW
WEST_LONGITUDE: -111 52 30.00000
EAST_LONGITUDE: -111 48 45.00000
NORTH_LATITUDE: 46 33 45.00000
SOUTH_LATITUDE: 46 30 0.00000
PRODUCTION_DATE: 2001 07 30
RASTER_ORDER: LEFT_RIGHT/TOP_BOTTOM
BAND_ORGANIZATION: SINGLE FILE
BAND_CONTENT: BLACK&WHITE
BAND_CONTENT: UNDEFINED
BAND_CONTENT: UNDEFINED
BITS_PER_PIXEL: 8
SAMPLES_AND_LINES: 5550 7650
HORIZONTAL_DATUM: NAD83
HORIZONTAL_COORDINATE_SYSTEM: UTM
COORDINATE_ZONE: 12
HORIZONTAL_UNITS: METERS
HORIZONTAL_RESOLUTION: 1.00000
SECONDARY_HORIZONTAL_DATUM: NAD27
XY_ORIGIN: 432480.00000 5157240.00000
SECONDARY_XY_ORIGIN: 432540.99300 5157028.31900
NATION: US
STATE: MT
NW_QUAD_CORNER_XY: 432936.70800 5156920.03900
NE_QUAD_CORNER_XY: 437726.92600 5156868.81300
SE_QUAD_CORNERY_XY: 437655.44700 5149924.02200
SW_QUAD_CORNER_XY: 432859.73100 5149975.25400
SECONDARY_NW_QUAD_XY: 432934.66100 5156701.73500
SECONDARY_NE_QUAD_XY: 437725.02400 5156650.50800
SECONDARY_SE_QUAD_XY: 437653.54600 5149705.75200
SECONDARY_SW_QUAD_XY: 432857.68300 5149756.98500
RMSE_XY: 1.08000
IMAGE_SOURCE: BLACK AND WHITE FILM
SOURCE_IMAGE_ID: NAPP 9181 270
SOURCE_IMAGE_DATE: 1997 09 09
SOURCE_DEM_DATE: 1993 00 00
AGENCY: WESTERN MAPPING CENTER (WMC)
PRODUCER: ANALYTICAL SURVEYS INC.
PRODUCTION_SYSTEM: ORBIT OR_RECTIFY V.5.2
COMPRESSION: UNDEFINED
STANDARD_VERSION: 1996 12
METADATA_DATE: 2001 08 01
DATA_FILE_SIZE: 42463050
BYTE_COUNT: 5550
