FILENAME: O4611125.SWS.1153721.tif
QUADRANGLE_NAME: EAST HELENA
QUADRANT: SW
WEST_LONGITUDE: -112 0 0.00000
EAST_LONGITUDE: -111 56 15.00000
NORTH_LATITUDE: 46 33 45.00000
SOUTH_LATITUDE: 46 30 0.00000
PRODUCTION_DATE: 2001 07 31
RASTER_ORDER: LEFT_RIGHT/TOP_BOTTOM
BAND_ORGANIZATION: SINGLE FILE
BAND_CONTENT: BLACK&WHITE
BAND_CONTENT: UNDEFINED
BAND_CONTENT: UNDEFINED
BITS_PER_PIXEL: 8
SAMPLES_AND_LINES: 5580 7650
HORIZONTAL_DATUM: NAD83
HORIZONTAL_COORDINATE_SYSTEM: UTM
COORDINATE_ZONE: 12
HORIZONTAL_UNITS: METERS
HORIZONTAL_RESOLUTION: 1.00000
SECONDARY_HORIZONTAL_DATUM: NAD27
XY_ORIGIN: 422880.00000 5157360.00000
SECONDARY_XY_ORIGIN: 422941.27600 5157148.23800
NATION: US
STATE: MT
NW_QUAD_CORNER_XY: 423356.28600 5157033.87600
NE_QUAD_CORNER_XY: 428146.49500 5156975.06000
SE_QUAD_CORNERY_XY: 428064.01800 5150030.28100
SW_QUAD_CORNER_XY: 423268.31000 5150089.10400
SECONDARY_NW_QUAD_XY: 423353.94600 5156815.57600
SECONDARY_NE_QUAD_XY: 428144.30100 5156756.75800
SECONDARY_SE_QUAD_XY: 428061.82500 5149812.01400
SECONDARY_SW_QUAD_XY: 423265.97000 5149870.83900
RMSE_XY: 2.21000
IMAGE_SOURCE: BLACK AND WHITE FILM
SOURCE_IMAGE_ID: NAPP 9182 55
SOURCE_IMAGE_DATE: 1997 09 09
SOURCE_DEM_DATE: 2001 01 01
AGENCY: WESTERN MAPPING CENTER (WMC)
PRODUCER: ANALYTICAL SURVEYS INC.
PRODUCTION_SYSTEM: ORBIT OR_RECTIFY V.5.2
COMPRESSION: UNDEFINED
STANDARD_VERSION: 1996 12
METADATA_DATE: 2001 08 10
DATA_FILE_SIZE: 42692580
BYTE_COUNT: 5580
