FILENAME: O4611118.NES.1154511.tif
QUADRANGLE_NAME: HAUSER LAKE
QUADRANT: NE
WEST_LONGITUDE: -111 48 45.00000
EAST_LONGITUDE: -111 45 0.00000
NORTH_LATITUDE: 46 45 0.00000
SOUTH_LATITUDE: 46 41 15.00000
PRODUCTION_DATE: 2001 07 19
RASTER_ORDER: LEFT_RIGHT/TOP_BOTTOM
BAND_ORGANIZATION: SINGLE FILE
BAND_CONTENT: BLACK&WHITE
BAND_CONTENT: UNDEFINED
BAND_CONTENT: UNDEFINED
BITS_PER_PIXEL: 8
SAMPLES_AND_LINES: 5550 7650
HORIZONTAL_DATUM: NAD83
HORIZONTAL_COORDINATE_SYSTEM: UTM
COORDINATE_ZONE: 12
HORIZONTAL_UNITS: METERS
HORIZONTAL_RESOLUTION: 1.00000
SECONDARY_HORIZONTAL_DATUM: NAD27
XY_ORIGIN: 437490.00000 5178030.00000
SECONDARY_XY_ORIGIN: 437550.74500 5177817.77700
NATION: US
STATE: MT
NW_QUAD_CORNER_XY: 437941.80900 5177703.63300
NE_QUAD_CORNER_XY: 442715.49900 5177656.21900
SE_QUAD_CORNERY_XY: 442649.31300 5170711.19800
SW_QUAD_CORNER_XY: 437870.10700 5170758.61800
SECONDARY_NW_QUAD_XY: 437939.90700 5177485.22800
SECONDARY_NE_QUAD_XY: 442713.74300 5177437.81300
SECONDARY_SE_QUAD_XY: 442647.55700 5170492.82500
SECONDARY_SW_QUAD_XY: 437868.20500 5170540.24600
RMSE_XY: 1.73000
IMAGE_SOURCE: BLACK AND WHITE FILM
SOURCE_IMAGE_ID: NAPP 9181 229
SOURCE_IMAGE_DATE: 1997 09 09
SOURCE_IMAGE_ID: NAPP 9181 227
SOURCE_IMAGE_DATE: 1997 09 09
SOURCE_IMAGE_ID: NAPP 9181 231
SOURCE_IMAGE_DATE: 1997 09 09
SOURCE_DEM_DATE: 1993 00 00
AGENCY: WESTERN MAPPING CENTER (WMC)
PRODUCER: ANALYTICAL SURVEYS INC.
PRODUCTION_SYSTEM: ORBIT OR_RECTIFY V.5.2
COMPRESSION: UNDEFINED
STANDARD_VERSION: 1996 12
METADATA_DATE: 2001 07 24
DATA_FILE_SIZE: 42463050
BYTE_COUNT: 5550
