FILENAME: O4611118.NWS.1154512.tif
QUADRANGLE_NAME: HAUSER LAKE
QUADRANT: NW
WEST_LONGITUDE: -111 52 30.00000
EAST_LONGITUDE: -111 48 45.00000
NORTH_LATITUDE: 46 45 0.00000
SOUTH_LATITUDE: 46 41 15.00000
PRODUCTION_DATE: 2001 07 19
RASTER_ORDER: LEFT_RIGHT/TOP_BOTTOM
BAND_ORGANIZATION: SINGLE FILE
BAND_CONTENT: BLACK&WHITE
BAND_CONTENT: UNDEFINED
BAND_CONTENT: UNDEFINED
BITS_PER_PIXEL: 8
SAMPLES_AND_LINES: 5550 7620
HORIZONTAL_DATUM: NAD83
HORIZONTAL_COORDINATE_SYSTEM: UTM
COORDINATE_ZONE: 12
HORIZONTAL_UNITS: METERS
HORIZONTAL_RESOLUTION: 1.00000
SECONDARY_HORIZONTAL_DATUM: NAD27
XY_ORIGIN: 432720.00000 5178060.00000
SECONDARY_XY_ORIGIN: 432780.89400 5177847.74800
NATION: US
STATE: MT
NW_QUAD_CORNER_XY: 433168.12300 5177754.84000
NE_QUAD_CORNER_XY: 437941.80900 5177703.63300
SE_QUAD_CORNERY_XY: 437870.10700 5170758.61800
SW_QUAD_CORNER_XY: 433090.90500 5170809.83100
SECONDARY_NW_QUAD_XY: 433166.07500 5177536.43700
SECONDARY_NE_QUAD_XY: 437939.90700 5177485.22800
SECONDARY_SE_QUAD_XY: 437868.20500 5170540.24600
SECONDARY_SW_QUAD_XY: 433088.85600 5170591.46100
RMSE_XY: 3.49000
IMAGE_SOURCE: BLACK AND WHITE FILM
SOURCE_IMAGE_ID: NAPP 9181 264
SOURCE_IMAGE_DATE: 1997 09 09
SOURCE_IMAGE_ID: NAPP 9181 262
SOURCE_IMAGE_DATE: 1997 09 09
SOURCE_DEM_DATE: 1993 00 00
AGENCY: WESTERN MAPPING CENTER (WMC)
PRODUCER: ANALYTICAL SURVEYS INC.
PRODUCTION_SYSTEM: ORBIT OR_RECTIFY V.5.2
COMPRESSION: UNDEFINED
STANDARD_VERSION: 1996 12
METADATA_DATE: 2001 07 24
DATA_FILE_SIZE: 42296550
BYTE_COUNT: 5550
