FILENAME: O4611109.SES.1154569.tif
QUADRANGLE_NAME: UPPER HOLTER LAKE
QUADRANT: SE
WEST_LONGITUDE: -111 56 15.00000
EAST_LONGITUDE: -111 52 30.00000
NORTH_LATITUDE: 46 48 45.00000
SOUTH_LATITUDE: 46 45 0.00000
PRODUCTION_DATE: 2001 07 18
RASTER_ORDER: LEFT_RIGHT/TOP_BOTTOM
BAND_ORGANIZATION: SINGLE FILE
BAND_CONTENT: BLACK&WHITE
BAND_CONTENT: UNDEFINED
BAND_CONTENT: UNDEFINED
BITS_PER_PIXEL: 8
SAMPLES_AND_LINES: 5550 7650
HORIZONTAL_DATUM: NAD83
HORIZONTAL_COORDINATE_SYSTEM: UTM
COORDINATE_ZONE: 12
HORIZONTAL_UNITS: METERS
HORIZONTAL_RESOLUTION: 1.00000
SECONDARY_HORIZONTAL_DATUM: NAD27
XY_ORIGIN: 428010.00000 5185080.00000
SECONDARY_XY_ORIGIN: 428071.00600 5184867.53900
NATION: US
STATE: MT
NW_QUAD_CORNER_XY: 428477.26300 5184754.91500
NE_QUAD_CORNER_XY: 433245.42200 5184699.92200
SE_QUAD_CORNERY_XY: 433168.12300 5177754.84000
SW_QUAD_CORNER_XY: 428394.44200 5177809.84000
SECONDARY_NW_QUAD_XY: 428475.06800 5184536.48300
SECONDARY_NE_QUAD_XY: 433243.37300 5184481.48800
SECONDARY_SE_QUAD_XY: 433166.07500 5177536.43700
SECONDARY_SW_QUAD_XY: 428392.24700 5177591.43900
RMSE_XY: 1.61000
IMAGE_SOURCE: BLACK AND WHITE FILM
SOURCE_IMAGE_ID: NAPP 9182 16
SOURCE_IMAGE_DATE: 1997 09 09
SOURCE_IMAGE_ID: NAPP 9182 18
SOURCE_IMAGE_DATE: 1997 09 09
SOURCE_DEM_DATE: 2001 01 01
AGENCY: WESTERN MAPPING CENTER (WMC)
PRODUCER: ANALYTICAL SURVEYS INC.
PRODUCTION_SYSTEM: ORBIT OR_RECTIFY V.5.2
COMPRESSION: UNDEFINED
STANDARD_VERSION: 1996 12
METADATA_DATE: 2001 08 11
DATA_FILE_SIZE: 42463050
BYTE_COUNT: 5550
