FILENAME: O4611264.NWS.1076957.tif
QUADRANGLE_NAME: WILSON PARK
QUADRANT: NW
WEST_LONGITUDE: -112 7 30.00000
EAST_LONGITUDE: -112 3 45.00000
NORTH_LATITUDE: 46 7 30.00000
SOUTH_LATITUDE: 46 3 45.00000
PRODUCTION_DATE: 2000 5 31
RASTER_ORDER: LEFT_RIGHT/TOP_BOTTOM
BAND_ORGANIZATION: SINGLE FILE
BAND_CONTENT: BLACK&WHITE
BAND_CONTENT: UNDEFINED
BAND_CONTENT: UNDEFINED
BITS_PER_PIXEL: 8
SAMPLES_AND_LINES: 5594 7621
HORIZONTAL_DATUM: NAD83
HORIZONTAL_COORDINATE_SYSTEM: UTM
COORDINATE_ZONE: 12
HORIZONTAL_UNITS: METERS
HORIZONTAL_RESOLUTION: 1.00000
SECONDARY_HORIZONTAL_DATUM: NAD27
XY_ORIGIN: 412621.00000 5108852.00000
SECONDARY_XY_ORIGIN: 412682.81800 5108641.11400
NATION: US
NATION: "SCIENCE
STATE: MT
NW_QUAD_CORNER_XY: 413085.22900 5108551.13300
NE_QUAD_CORNER_XY: 417913.80500 5108484.68000
SE_QUAD_CORNERY_XY: 417821.01500 5101540.43100
SW_QUAD_CORNER_XY: 412986.97900 5101606.88900
SECONDARY_NW_QUAD_XY: 413082.59900 5108333.09800
SECONDARY_NE_QUAD_XY: 417911.32200 5108266.64300
SECONDARY_SE_QUAD_XY: 417818.53300 5101322.43500
SECONDARY_SW_QUAD_XY: 412984.35100 5101388.89500
RMSE_XY: 2.40000
IMAGE_SOURCE: BLACK AND WHITE FILM
SOURCE_IMAGE_ID: NAPP 9483 029
SOURCE_IMAGE_DATE: 1995 08 14
SOURCE_IMAGE_ID: NAPP 9483 030
SOURCE_IMAGE_DATE: 1995 08 14
SOURCE_IMAGE_ID: NAPP 9483 028
SOURCE_IMAGE_DATE: 1995 08 14
SOURCE_IMAGE_ID: NAPP 9483 027
SOURCE_IMAGE_DATE: 1995 08 14
SOURCE_IMAGE_ID: NAPP 9491 114
SOURCE_IMAGE_DATE: 1995 09 01
SOURCE_DEM_DATE: 1988 00 00
AGENCY: WESTERN MAPPING CENTER (WMC)
PRODUCER: UNDEFINED
PRODUCTION_SYSTEM: GIS/MAGIC
COMPRESSION: UNDEFINED
STANDARD_VERSION: 1996 12
METADATA_DATE: 2000 05 31
DATA_FILE_SIZE: 42637468
BYTE_COUNT: 5594
