FILENAME: O4611261.NES.1076816.tif
QUADRANGLE_NAME: ELK PARK PASS
QUADRANT: NE
WEST_LONGITUDE: -112 26 15.00000
EAST_LONGITUDE: -112 22 30.00000
NORTH_LATITUDE: 46 7 30.00000
SOUTH_LATITUDE: 46 3 45.00000
PRODUCTION_DATE: 2000 3 30
RASTER_ORDER: LEFT_RIGHT/TOP_BOTTOM
BAND_ORGANIZATION: SINGLE FILE
BAND_CONTENT: BLACK&WHITE
BAND_CONTENT: UNDEFINED
BAND_CONTENT: UNDEFINED
BITS_PER_PIXEL: 8
SAMPLES_AND_LINES: 5623 7640
HORIZONTAL_DATUM: NAD83
HORIZONTAL_COORDINATE_SYSTEM: UTM
COORDINATE_ZONE: 12
HORIZONTAL_UNITS: METERS
HORIZONTAL_RESOLUTION: 1.00000
SECONDARY_HORIZONTAL_DATUM: NAD27
XY_ORIGIN: 388449.00000 5109241.00000
SECONDARY_XY_ORIGIN: 388511.61200 5109029.81800
NATION: US
NATION: "SCIENCE
STATE: MT
NW_QUAD_CORNER_XY: 388942.40700 5108940.37600
NE_QUAD_CORNER_XY: 393770.96200 5108854.93000
SE_QUAD_CORNERY_XY: 393650.87300 5101910.71000
SW_QUAD_CORNER_XY: 388816.85700 5101996.16300
SECONDARY_NW_QUAD_XY: 388939.04800 5108722.35200
SECONDARY_NE_QUAD_XY: 393767.74900 5108636.90400
SECONDARY_SE_QUAD_XY: 393647.66000 5101692.72500
SECONDARY_SW_QUAD_XY: 388813.49800 5101778.18000
RMSE_XY: 2.80000
IMAGE_SOURCE: BLACK AND WHITE FILM
SOURCE_IMAGE_ID: NAPP 9486 032
SOURCE_IMAGE_DATE: 1995 08 20
SOURCE_IMAGE_ID: NAPP 9486 031
SOURCE_IMAGE_DATE: 1995 08 20
SOURCE_IMAGE_ID: NAPP 9486 033
SOURCE_IMAGE_DATE: 1995 08 20
SOURCE_DEM_DATE: 1980 00 00
AGENCY: WESTERN MAPPING CENTER (WMC)
PRODUCER: UNDEFINED
PRODUCTION_SYSTEM: GIS/MAGIC
COMPRESSION: UNDEFINED
STANDARD_VERSION: 1996 12
METADATA_DATE: 2000 05 29
DATA_FILE_SIZE: 42965343
BYTE_COUNT: 5623
