FILENAME: O4611254.NWS.1076813.tif
QUADRANGLE_NAME: BISON CANYON
QUADRANT: NW
WEST_LONGITUDE: -112 22 30.00000
EAST_LONGITUDE: -112 18 45.00000
NORTH_LATITUDE: 46 15 0.00000
SOUTH_LATITUDE: 46 11 15.00000
PRODUCTION_DATE: 2000 3 21
RASTER_ORDER: LEFT_RIGHT/TOP_BOTTOM
BAND_ORGANIZATION: SINGLE FILE
BAND_CONTENT: BLACK&WHITE
BAND_CONTENT: UNDEFINED
BAND_CONTENT: UNDEFINED
BITS_PER_PIXEL: 8
SAMPLES_AND_LINES: 5607 7636
HORIZONTAL_DATUM: NAD83
HORIZONTAL_COORDINATE_SYSTEM: UTM
COORDINATE_ZONE: 12
HORIZONTAL_UNITS: METERS
HORIZONTAL_RESOLUTION: 1.00000
SECONDARY_HORIZONTAL_DATUM: NAD27
XY_ORIGIN: 393524.00000 5123044.00000
SECONDARY_XY_ORIGIN: 393586.43400 5122832.67900
NATION: US
NATION: "SCIENCE
STATE: MT
NW_QUAD_CORNER_XY: 394011.52400 5122743.58400
NE_QUAD_CORNER_XY: 398829.14500 5122661.95100
SE_QUAD_CORNERY_XY: 398714.27300 5115717.58100
SW_QUAD_CORNER_XY: 393891.18000 5115799.22100
SECONDARY_NW_QUAD_XY: 394008.30900 5122525.48000
SECONDARY_NE_QUAD_XY: 398826.07700 5122443.84400
SECONDARY_SE_QUAD_XY: 398711.20500 5115499.51300
SECONDARY_SW_QUAD_XY: 393887.96600 5115581.15500
RMSE_XY: 4.00000
IMAGE_SOURCE: BLACK AND WHITE FILM
SOURCE_IMAGE_ID: NAPP 9484 128
SOURCE_IMAGE_DATE: 1995 08 14
SOURCE_IMAGE_ID: NAPP 9486 035
SOURCE_IMAGE_DATE: 1995 08 20
SOURCE_IMAGE_ID: NAPP 9486 037
SOURCE_IMAGE_DATE: 1995 08 20
SOURCE_IMAGE_ID: NAPP 9486 108
SOURCE_IMAGE_DATE: 1995 08 20
SOURCE_IMAGE_ID: NAPP 9486 106
SOURCE_IMAGE_DATE: 1995 08 20
SOURCE_DEM_DATE: 1980 00 00
AGENCY: WESTERN MAPPING CENTER (WMC)
PRODUCER: UNDEFINED
PRODUCTION_SYSTEM: GIS/MAGIC
COMPRESSION: UNDEFINED
STANDARD_VERSION: 1996 12
METADATA_DATE: 2000 05 29
DATA_FILE_SIZE: 42820659
BYTE_COUNT: 5607
