FILENAME: O4611253.NES.1076808.tif
QUADRANGLE_NAME: SHEEPSHEAD MOUNTAIN
QUADRANT: NE
WEST_LONGITUDE: -112 26 15.00000
EAST_LONGITUDE: -112 22 30.00000
NORTH_LATITUDE: 46 15 0.00000
SOUTH_LATITUDE: 46 11 15.00000
PRODUCTION_DATE: 2000 3 21
RASTER_ORDER: LEFT_RIGHT/TOP_BOTTOM
BAND_ORGANIZATION: SINGLE FILE
BAND_CONTENT: BLACK&WHITE
BAND_CONTENT: UNDEFINED
BAND_CONTENT: UNDEFINED
BITS_PER_PIXEL: 8
SAMPLES_AND_LINES: 5612 7640
HORIZONTAL_DATUM: NAD83
HORIZONTAL_COORDINATE_SYSTEM: UTM
COORDINATE_ZONE: 12
HORIZONTAL_UNITS: METERS
HORIZONTAL_RESOLUTION: 1.00000
SECONDARY_HORIZONTAL_DATUM: NAD27
XY_ORIGIN: 388701.00000 5123130.00000
SECONDARY_XY_ORIGIN: 388763.60300 5122918.61800
NATION: US
NATION: "SCIENCE
STATE: MT
NW_QUAD_CORNER_XY: 389193.90800 5122829.01500
NE_QUAD_CORNER_XY: 394011.52400 5122743.58400
SE_QUAD_CORNERY_XY: 393891.18000 5115799.22100
SW_QUAD_CORNER_XY: 389068.09100 5115884.66000
SECONDARY_NW_QUAD_XY: 389190.54700 5122610.91300
SECONDARY_NE_QUAD_XY: 394008.30900 5122525.48000
SECONDARY_SE_QUAD_XY: 393887.96600 5115581.15500
SECONDARY_SW_QUAD_XY: 389064.73100 5115666.59700
RMSE_XY: 3.00000
IMAGE_SOURCE: BLACK AND WHITE FILM
SOURCE_IMAGE_ID: NAPP 9486 036
SOURCE_IMAGE_DATE: 1995 08 20
SOURCE_IMAGE_ID: NAPP 9486 035
SOURCE_IMAGE_DATE: 1995 08 20
SOURCE_IMAGE_ID: NAPP 9486 037
SOURCE_IMAGE_DATE: 1995 08 20
SOURCE_DEM_DATE: 1985 00 00
AGENCY: WESTERN MAPPING CENTER (WMC)
PRODUCER: UNDEFINED
PRODUCTION_SYSTEM: GIS/MAGIC
COMPRESSION: UNDEFINED
STANDARD_VERSION: 1996 12
METADATA_DATE: 2000 05 29
DATA_FILE_SIZE: 42881292
BYTE_COUNT: 5612
