FILENAME: O4611252.SWS.1076839.tif
QUADRANGLE_NAME: LOCKHART MEADOWS
QUADRANT: SW
WEST_LONGITUDE: -112 37 30.00000
EAST_LONGITUDE: -112 33 45.00000
NORTH_LATITUDE: 46 11 15.00000
SOUTH_LATITUDE: 46 7 30.00000
PRODUCTION_DATE: 2000 3 21
RASTER_ORDER: LEFT_RIGHT/TOP_BOTTOM
BAND_ORGANIZATION: SINGLE FILE
BAND_CONTENT: BLACK&WHITE
BAND_CONTENT: UNDEFINED
BAND_CONTENT: UNDEFINED
BITS_PER_PIXEL: 8
SAMPLES_AND_LINES: 5635 7651
HORIZONTAL_DATUM: NAD83
HORIZONTAL_COORDINATE_SYSTEM: UTM
COORDINATE_ZONE: 12
HORIZONTAL_UNITS: METERS
HORIZONTAL_RESOLUTION: 1.00000
SECONDARY_HORIZONTAL_DATUM: NAD27
XY_ORIGIN: 374088.00000 5116464.00000
SECONDARY_XY_ORIGIN: 374151.01400 5116252.70200
NATION: US
NATION: "SCIENCE
STATE: MT
NW_QUAD_CORNER_XY: 374598.85800 5116163.77000
NE_QUAD_CORNER_XY: 379421.93000 5116066.93400
SE_QUAD_CORNERY_XY: 379285.31300 5109122.66500
SW_QUAD_CORNER_XY: 374456.77300 5109219.50900
SECONDARY_NW_QUAD_XY: 374595.06000 5115945.71500
SECONDARY_NE_QUAD_XY: 379418.27800 5115848.87600
SECONDARY_SE_QUAD_XY: 379281.66100 5108904.64700
SECONDARY_SW_QUAD_XY: 374452.97600 5109001.49400
RMSE_XY: 1.70000
IMAGE_SOURCE: BLACK AND WHITE FILM
SOURCE_IMAGE_ID: NAPP 8382 074
SOURCE_IMAGE_DATE: 1995 08 01
SOURCE_IMAGE_ID: NAPP 8382 075
SOURCE_IMAGE_DATE: 1995 08 01
SOURCE_IMAGE_ID: NAPP 8382 073
SOURCE_IMAGE_DATE: 1995 08 01
SOURCE_DEM_DATE: 1954 00 00
AGENCY: WESTERN MAPPING CENTER (WMC)
PRODUCER: UNDEFINED
PRODUCTION_SYSTEM: GIS/MAGIC
COMPRESSION: UNDEFINED
STANDARD_VERSION: 1996 12
METADATA_DATE: 2000 05 29
DATA_FILE_SIZE: 43119020
BYTE_COUNT: 5635
