FILENAME: O4611250.NES.1076804.tif
QUADRANGLE_NAME: WARM SPRINGS
QUADRANT: NE
WEST_LONGITUDE: -112 48 45.00000
EAST_LONGITUDE: -112 45 0.00000
NORTH_LATITUDE: 46 15 0.00000
SOUTH_LATITUDE: 46 11 15.00000
PRODUCTION_DATE: 2000 3 21
RASTER_ORDER: LEFT_RIGHT/TOP_BOTTOM
BAND_ORGANIZATION: SINGLE FILE
BAND_CONTENT: BLACK&WHITE
BAND_CONTENT: UNDEFINED
BAND_CONTENT: UNDEFINED
BITS_PER_PIXEL: 8
SAMPLES_AND_LINES: 5646 7662
HORIZONTAL_DATUM: NAD83
HORIZONTAL_COORDINATE_SYSTEM: UTM
COORDINATE_ZONE: 12
HORIZONTAL_UNITS: METERS
HORIZONTAL_RESOLUTION: 1.00000
SECONDARY_HORIZONTAL_DATUM: NAD27
XY_ORIGIN: 359761.00000 5123722.00000
SECONDARY_XY_ORIGIN: 359824.25500 5123510.60000
NATION: US
NATION: "SCIENCE
STATE: MT
NW_QUAD_CORNER_XY: 360288.33700 5123421.37700
NE_QUAD_CORNER_XY: 365105.91500 5123313.15200
SE_QUAD_CORNERY_XY: 364952.73300 5116368.84000
SW_QUAD_CORNER_XY: 360129.68000 5116477.07500
SECONDARY_NW_QUAD_XY: 360284.09900 5123203.29300
SECONDARY_NE_QUAD_XY: 365101.82400 5123095.06400
SECONDARY_SE_QUAD_XY: 364948.64200 5116150.79100
SECONDARY_SW_QUAD_XY: 360125.44300 5116259.03000
RMSE_XY: 1.00000
IMAGE_SOURCE: BLACK AND WHITE FILM
SOURCE_IMAGE_ID: NAPP 9485 057
SOURCE_IMAGE_DATE: 1995 08 20
SOURCE_IMAGE_ID: NAPP 9485 058
SOURCE_IMAGE_DATE: 1995 08 20
SOURCE_DEM_DATE: 1956 00 00
AGENCY: WESTERN MAPPING CENTER (WMC)
PRODUCER: UNDEFINED
PRODUCTION_SYSTEM: GIS/MAGIC
COMPRESSION: UNDEFINED
STANDARD_VERSION: 1996 12
METADATA_DATE: 2000 05 29
DATA_FILE_SIZE: 43265298
BYTE_COUNT: 5646
