FILENAME: O4611250.SES.1076806.tif
QUADRANGLE_NAME: WARM SPRINGS
QUADRANT: SE
WEST_LONGITUDE: -112 48 45.00000
EAST_LONGITUDE: -112 45 0.00000
NORTH_LATITUDE: 46 11 15.00000
SOUTH_LATITUDE: 46 7 30.00000
PRODUCTION_DATE: 2000 3 21
RASTER_ORDER: LEFT_RIGHT/TOP_BOTTOM
BAND_ORGANIZATION: SINGLE FILE
BAND_CONTENT: BLACK&WHITE
BAND_CONTENT: UNDEFINED
BAND_CONTENT: UNDEFINED
BITS_PER_PIXEL: 8
SAMPLES_AND_LINES: 5652 7663
HORIZONTAL_DATUM: NAD83
HORIZONTAL_COORDINATE_SYSTEM: UTM
COORDINATE_ZONE: 12
HORIZONTAL_UNITS: METERS
HORIZONTAL_RESOLUTION: 1.00000
SECONDARY_HORIZONTAL_DATUM: NAD27
XY_ORIGIN: 359602.00000 5116778.00000
SECONDARY_XY_ORIGIN: 359665.25200 5116566.66300
NATION: US
NATION: "SCIENCE
STATE: MT
NW_QUAD_CORNER_XY: 360129.68000 5116477.07500
NE_QUAD_CORNER_XY: 364952.73300 5116368.84000
SE_QUAD_CORNERY_XY: 364799.71200 5109424.59700
SW_QUAD_CORNER_XY: 359971.19000 5109532.84100
SECONDARY_NW_QUAD_XY: 360125.44300 5116259.03000
SECONDARY_NE_QUAD_XY: 364948.64200 5116150.79100
SECONDARY_SE_QUAD_XY: 364795.62200 5109206.58800
SECONDARY_SW_QUAD_XY: 359966.95400 5109314.83600
RMSE_XY: 1.80000
IMAGE_SOURCE: BLACK AND WHITE FILM
SOURCE_IMAGE_ID: NAPP 9485 055
SOURCE_IMAGE_DATE: 1995 08 20
SOURCE_IMAGE_ID: NAPP 9485 054
SOURCE_IMAGE_DATE: 1995 08 20
SOURCE_IMAGE_ID: NAPP 9485 056
SOURCE_IMAGE_DATE: 1995 08 20
SOURCE_DEM_DATE: 1956 00 00
AGENCY: WESTERN MAPPING CENTER (WMC)
PRODUCER: UNDEFINED
PRODUCTION_SYSTEM: GIS/MAGIC
COMPRESSION: UNDEFINED
STANDARD_VERSION: 1996 12
METADATA_DATE: 2000 05 29
DATA_FILE_SIZE: 43316928
BYTE_COUNT: 5652
