FILENAME: O4611248.SWS.1076975.tif
QUADRANGLE_NAME: WICKES
QUADRANT: SW
WEST_LONGITUDE: -112 7 30.00000
EAST_LONGITUDE: -112 3 45.00000
NORTH_LATITUDE: 46 18 45.00000
SOUTH_LATITUDE: 46 15 0.00000
PRODUCTION_DATE: 2000 5 2
RASTER_ORDER: LEFT_RIGHT/TOP_BOTTOM
BAND_ORGANIZATION: SINGLE FILE
BAND_CONTENT: BLACK&WHITE
BAND_CONTENT: UNDEFINED
BAND_CONTENT: UNDEFINED
BITS_PER_PIXEL: 8
SAMPLES_AND_LINES: 5578 7621
HORIZONTAL_DATUM: NAD83
HORIZONTAL_COORDINATE_SYSTEM: UTM
COORDINATE_ZONE: 12
HORIZONTAL_UNITS: METERS
HORIZONTAL_RESOLUTION: 1.00000
SECONDARY_HORIZONTAL_DATUM: NAD27
XY_ORIGIN: 412916.00000 5129685.00000
SECONDARY_XY_ORIGIN: 412977.75000 5129473.79300
NATION: US
NATION: "SCIENCE
STATE: MT
NW_QUAD_CORNER_XY: 413380.60100 5129384.30500
NE_QUAD_CORNER_XY: 418192.76500 5129317.87000
SE_QUAD_CORNERY_XY: 418099.68000 5122373.40000
SW_QUAD_CORNER_XY: 413282.04000 5122439.84100
SECONDARY_NW_QUAD_XY: 413377.97100 5129166.15300
SECONDARY_NE_QUAD_XY: 418190.28000 5129099.71600
SECONDARY_SE_QUAD_XY: 418097.19600 5122155.28400
SECONDARY_SW_QUAD_XY: 413279.41000 5122221.72700
RMSE_XY: 2.10000
IMAGE_SOURCE: BLACK AND WHITE FILM
SOURCE_IMAGE_ID: NAPP 9483 023
SOURCE_IMAGE_DATE: 1995 08 14
SOURCE_IMAGE_ID: NAPP 8388 090
SOURCE_IMAGE_DATE: 1995 08 09
SOURCE_IMAGE_ID: NAPP 9483 024
SOURCE_IMAGE_DATE: 1995 08 14
SOURCE_IMAGE_ID: NAPP 9483 022
SOURCE_IMAGE_DATE: 1995 08 14
SOURCE_DEM_DATE: 1980 00 00
AGENCY: WESTERN MAPPING CENTER (WMC)
PRODUCER: UNDEFINED
PRODUCTION_SYSTEM: GIS/MAGIC
COMPRESSION: UNDEFINED
STANDARD_VERSION: 1996 12
METADATA_DATE: 2000 05 31
DATA_FILE_SIZE: 42515516
BYTE_COUNT: 5578
