FILENAME: O4611247.SWS.1076943.tif
QUADRANGLE_NAME: MOUNT THOMPSON
QUADRANT: SW
WEST_LONGITUDE: -112 15 0.00000
EAST_LONGITUDE: -112 11 15.00000
NORTH_LATITUDE: 46 18 45.00000
SOUTH_LATITUDE: 46 15 0.00000
PRODUCTION_DATE: 2000 5 21
RASTER_ORDER: LEFT_RIGHT/TOP_BOTTOM
BAND_ORGANIZATION: SINGLE FILE
BAND_CONTENT: BLACK&WHITE
BAND_CONTENT: UNDEFINED
BAND_CONTENT: UNDEFINED
BITS_PER_PIXEL: 8
SAMPLES_AND_LINES: 5590 7628
HORIZONTAL_DATUM: NAD83
HORIZONTAL_COORDINATE_SYSTEM: UTM
COORDINATE_ZONE: 12
HORIZONTAL_UNITS: METERS
HORIZONTAL_RESOLUTION: 1.00000
SECONDARY_HORIZONTAL_DATUM: NAD27
XY_ORIGIN: 403280.00000 5129829.00000
SECONDARY_XY_ORIGIN: 403342.06000 5129617.65900
NATION: US
NATION: "SCIENCE
STATE: MT
NW_QUAD_CORNER_XY: 403756.28800 5129528.56700
NE_QUAD_CORNER_XY: 408568.44200 5129454.53700
SE_QUAD_CORNERY_XY: 408464.40400 5122510.08000
SW_QUAD_CORNER_XY: 403646.77200 5122584.11700
SECONDARY_NW_QUAD_XY: 403753.36500 5129310.41900
SECONDARY_NE_QUAD_XY: 408565.66500 5129236.38700
SECONDARY_SE_QUAD_XY: 408461.62700 5122291.96800
SECONDARY_SW_QUAD_XY: 403643.85000 5122366.00700
RMSE_XY: 2.10000
IMAGE_SOURCE: BLACK AND WHITE FILM
SOURCE_IMAGE_ID: NAPP 8388 091
SOURCE_IMAGE_DATE: 1995 08 09
SOURCE_IMAGE_ID: NAPP 9484 130
SOURCE_IMAGE_DATE: 1995 08 14
SOURCE_IMAGE_ID: NAPP 9484 131
SOURCE_IMAGE_DATE: 1995 08 14
SOURCE_IMAGE_ID: NAPP 9484 132
SOURCE_IMAGE_DATE: 1995 08 14
SOURCE_IMAGE_ID: NAPP 9484 139
SOURCE_IMAGE_DATE: 1995 08 14
SOURCE_DEM_DATE: 1997 00 00
AGENCY: WESTERN MAPPING CENTER (WMC)
PRODUCER: UNDEFINED
PRODUCTION_SYSTEM: GIS/MAGIC
COMPRESSION: UNDEFINED
STANDARD_VERSION: 1996 12
METADATA_DATE: 2000 05 31
DATA_FILE_SIZE: 42646110
BYTE_COUNT: 5590
