FILENAME: O4611245.SES.1076866.tif
QUADRANGLE_NAME: THUNDERBOLT CREEK
QUADRANT: SE
WEST_LONGITUDE: -112 26 15.00000
EAST_LONGITUDE: -112 22 30.00000
NORTH_LATITUDE: 46 18 45.00000
SOUTH_LATITUDE: 46 15 0.00000
PRODUCTION_DATE: 2000 5 4
RASTER_ORDER: LEFT_RIGHT/TOP_BOTTOM
BAND_ORGANIZATION: SINGLE FILE
BAND_CONTENT: BLACK&WHITE
BAND_CONTENT: UNDEFINED
BAND_CONTENT: UNDEFINED
BITS_PER_PIXEL: 8
SAMPLES_AND_LINES: 5607 7640
HORIZONTAL_DATUM: NAD83
HORIZONTAL_COORDINATE_SYSTEM: UTM
COORDINATE_ZONE: 12
HORIZONTAL_UNITS: METERS
HORIZONTAL_RESOLUTION: 1.00000
SECONDARY_HORIZONTAL_DATUM: NAD27
XY_ORIGIN: 388826.00000 5130074.00000
SECONDARY_XY_ORIGIN: 388888.56200 5129862.51000
NATION: US
NATION: "SCIENCE
STATE: MT
NW_QUAD_CORNER_XY: 389319.85700 5129773.44200
NE_QUAD_CORNER_XY: 394131.99500 5129688.01900
SE_QUAD_CORNERY_XY: 394011.52400 5122743.58400
SW_QUAD_CORNER_XY: 389193.90800 5122829.01500
SECONDARY_NW_QUAD_XY: 389316.49500 5129555.30200
SECONDARY_NE_QUAD_XY: 394128.78000 5129469.87700
SECONDARY_SE_QUAD_XY: 394008.30900 5122525.48000
SECONDARY_SW_QUAD_XY: 389190.54700 5122610.91300
RMSE_XY: 3.20000
IMAGE_SOURCE: BLACK AND WHITE FILM
SOURCE_IMAGE_ID: NAPP 9486 038
SOURCE_IMAGE_DATE: 1995 08 20
SOURCE_IMAGE_ID: NAPP 9486 037
SOURCE_IMAGE_DATE: 1995 08 20
SOURCE_IMAGE_ID: NAPP 9486 039
SOURCE_IMAGE_DATE: 1995 08 20
SOURCE_IMAGE_ID: NAPP 9486 104
SOURCE_IMAGE_DATE: 1995 08 20
SOURCE_DEM_DATE: 1980 00 00
AGENCY: WESTERN MAPPING CENTER (WMC)
PRODUCER: UNDEFINED
PRODUCTION_SYSTEM: GIS/MAGIC
COMPRESSION: UNDEFINED
STANDARD_VERSION: 1996 12
METADATA_DATE: 2000 05 31
DATA_FILE_SIZE: 42843087
BYTE_COUNT: 5607
