FILENAME: O4611242.NES.1077161.tif
QUADRANGLE_NAME: RACETRACK
QUADRANT: NE
WEST_LONGITUDE: -112 48 45.00000
EAST_LONGITUDE: -112 45 0.00000
NORTH_LATITUDE: 46 22 30.00000
SOUTH_LATITUDE: 46 18 45.00000
PRODUCTION_DATE: 2000 5 10
RASTER_ORDER: LEFT_RIGHT/TOP_BOTTOM
BAND_ORGANIZATION: SINGLE FILE
BAND_CONTENT: BLACK&WHITE
BAND_CONTENT: UNDEFINED
BAND_CONTENT: UNDEFINED
BITS_PER_PIXEL: 8
SAMPLES_AND_LINES: 5636 7663
HORIZONTAL_DATUM: NAD83
HORIZONTAL_COORDINATE_SYSTEM: UTM
COORDINATE_ZONE: 12
HORIZONTAL_UNITS: METERS
HORIZONTAL_RESOLUTION: 1.00000
SECONDARY_HORIZONTAL_DATUM: NAD27
XY_ORIGIN: 360078.00000 5137611.00000
SECONDARY_XY_ORIGIN: 360141.21700 5137399.38200
NATION: US
NATION: "SCIENCE
STATE: MT
NW_QUAD_CORNER_XY: 360606.15200 5137310.18700
NE_QUAD_CORNER_XY: 365412.76500 5137201.98300
SE_QUAD_CORNERY_XY: 365259.26000 5130257.53300
SW_QUAD_CORNER_XY: 360447.16100 5130365.74800
SECONDARY_NW_QUAD_XY: 360601.91300 5137092.02800
SECONDARY_NE_QUAD_XY: 365408.67200 5136983.82100
SECONDARY_SE_QUAD_XY: 365255.16700 5130039.40800
SECONDARY_SW_QUAD_XY: 360442.92200 5130147.62600
RMSE_XY: 0.90000
IMAGE_SOURCE: BLACK AND WHITE FILM
SOURCE_IMAGE_ID: NAPP 9485 061
SOURCE_IMAGE_DATE: 1995 08 20
SOURCE_IMAGE_ID: NAPP 9485 037
SOURCE_IMAGE_DATE: 1995 08 20
SOURCE_DEM_DATE: 1966 00 00
AGENCY: WESTERN MAPPING CENTER (WMC)
PRODUCER: UNDEFINED
PRODUCTION_SYSTEM: GIS/MAGIC
COMPRESSION: UNDEFINED
STANDARD_VERSION: 1996 12
METADATA_DATE: 2000 05 30
DATA_FILE_SIZE: 43194304
BYTE_COUNT: 5636
