FILENAME: O4611241.NES.1077134.tif
QUADRANGLE_NAME: MOUNT POWELL
QUADRANT: NE
WEST_LONGITUDE: -112 56 15.00000
EAST_LONGITUDE: -112 52 30.00000
NORTH_LATITUDE: 46 22 30.00000
SOUTH_LATITUDE: 46 18 45.00000
PRODUCTION_DATE: 2000 5 26
RASTER_ORDER: LEFT_RIGHT/TOP_BOTTOM
BAND_ORGANIZATION: SINGLE FILE
BAND_CONTENT: BLACK&WHITE
BAND_CONTENT: UNDEFINED
BAND_CONTENT: UNDEFINED
BITS_PER_PIXEL: 8
SAMPLES_AND_LINES: 5647 7669
HORIZONTAL_DATUM: NAD83
HORIZONTAL_COORDINATE_SYSTEM: UTM
COORDINATE_ZONE: 12
HORIZONTAL_UNITS: METERS
HORIZONTAL_RESOLUTION: 1.00000
SECONDARY_HORIZONTAL_DATUM: NAD27
XY_ORIGIN: 350454.00000 5137838.00000
SECONDARY_XY_ORIGIN: 350517.28100 5137626.24900
NATION: US
NATION: "SCIENCE
STATE: MT
NW_QUAD_CORNER_XY: 350992.94900 5137537.99300
NE_QUAD_CORNER_XY: 355799.54600 5137422.19000
SE_QUAD_CORNERY_XY: 355635.06900 5130477.76200
SW_QUAD_CORNER_XY: 350822.98500 5130593.57600
SECONDARY_NW_QUAD_XY: 350988.41700 5137319.84000
SECONDARY_NE_QUAD_XY: 355795.16100 5137204.03400
SECONDARY_SE_QUAD_XY: 355630.68400 5130259.64300
SECONDARY_SW_QUAD_XY: 350818.45400 5130375.46100
RMSE_XY: 2.30000
IMAGE_SOURCE: BLACK AND WHITE FILM
SOURCE_IMAGE_ID: NAPP 8380 018
SOURCE_IMAGE_DATE: 1995 06 30
SOURCE_IMAGE_ID: NAPP 9485 101
SOURCE_IMAGE_DATE: 1995 08 20
SOURCE_IMAGE_ID: NAPP 9485 100
SOURCE_IMAGE_DATE: 1995 08 20
SOURCE_IMAGE_ID: NAPP 9492 017
SOURCE_IMAGE_DATE: 1995 09 12
SOURCE_IMAGE_ID: NAPP 9492 019
SOURCE_IMAGE_DATE: 1995 09 12
SOURCE_DEM_DATE: 1997 00 00
AGENCY: WESTERN MAPPING CENTER (WMC)
PRODUCER: UNDEFINED
PRODUCTION_SYSTEM: GIS/MAGIC
COMPRESSION: UNDEFINED
STANDARD_VERSION: 1996 12
METADATA_DATE: 2000 05 30
DATA_FILE_SIZE: 43312490
BYTE_COUNT: 5647
