FILENAME: O4611235.NES.1077197.tif
QUADRANGLE_NAME: DEER LODGE
QUADRANT: NE
WEST_LONGITUDE: -112 41 15.00000
EAST_LONGITUDE: -112 37 30.00000
NORTH_LATITUDE: 46 30 0.00000
SOUTH_LATITUDE: 46 26 15.00000
PRODUCTION_DATE: 2000 5 11
RASTER_ORDER: LEFT_RIGHT/TOP_BOTTOM
BAND_ORGANIZATION: SINGLE FILE
BAND_CONTENT: BLACK&WHITE
BAND_CONTENT: UNDEFINED
BAND_CONTENT: UNDEFINED
BITS_PER_PIXEL: 8
SAMPLES_AND_LINES: 5614 7655
HORIZONTAL_DATUM: NAD83
HORIZONTAL_COORDINATE_SYSTEM: UTM
COORDINATE_ZONE: 12
HORIZONTAL_UNITS: METERS
HORIZONTAL_RESOLUTION: 1.00000
SECONDARY_HORIZONTAL_DATUM: NAD27
XY_ORIGIN: 369999.00000 5151287.00000
SECONDARY_XY_ORIGIN: 370061.99100 5151075.22200
NATION: US
NATION: "SCIENCE
STATE: MT
NW_QUAD_CORNER_XY: 370515.89300 5150986.70900
NE_QUAD_CORNER_XY: 375311.53300 5150886.12400
SE_QUAD_CORNERY_XY: 375168.69900 5143941.51300
SW_QUAD_CORNER_XY: 370367.56200 5144042.10900
SECONDARY_NW_QUAD_XY: 370511.94400 5150768.47100
SECONDARY_NE_QUAD_XY: 375307.73100 5150667.88300
SECONDARY_SE_QUAD_XY: 375164.89700 5143723.30700
SECONDARY_SW_QUAD_XY: 370363.61400 5143823.90600
RMSE_XY: 3.80000
IMAGE_SOURCE: BLACK AND WHITE FILM
SOURCE_IMAGE_ID: NAPP 8386 047
SOURCE_IMAGE_DATE: 1995 08 05
SOURCE_IMAGE_ID: NAPP 9485 035
SOURCE_IMAGE_DATE: 1995 08 20
SOURCE_IMAGE_ID: NAPP 9485 033
SOURCE_IMAGE_DATE: 1995 08 20
SOURCE_IMAGE_ID: NAPP 8382 058
SOURCE_IMAGE_DATE: 1995 08 01
SOURCE_IMAGE_ID: NAPP 8382 059
SOURCE_IMAGE_DATE: 1995 08 01
SOURCE_DEM_DATE: 1988 00 00
AGENCY: WESTERN MAPPING CENTER (WMC)
PRODUCER: UNDEFINED
PRODUCTION_SYSTEM: GIS/MAGIC
COMPRESSION: UNDEFINED
STANDARD_VERSION: 1996 12
METADATA_DATE: 2000 05 30
DATA_FILE_SIZE: 42980784
BYTE_COUNT: 5614
