FILENAME: O4611235.SWS.1077200.tif
QUADRANGLE_NAME: DEER LODGE
QUADRANT: SW
WEST_LONGITUDE: -112 45 0.00000
EAST_LONGITUDE: -112 41 15.00000
NORTH_LATITUDE: 46 26 15.00000
SOUTH_LATITUDE: 46 22 30.00000
PRODUCTION_DATE: 2000 5 11
RASTER_ORDER: LEFT_RIGHT/TOP_BOTTOM
BAND_ORGANIZATION: SINGLE FILE
BAND_CONTENT: BLACK&WHITE
BAND_CONTENT: UNDEFINED
BAND_CONTENT: UNDEFINED
BITS_PER_PIXEL: 8
SAMPLES_AND_LINES: 5625 7659
HORIZONTAL_DATUM: NAD83
HORIZONTAL_COORDINATE_SYSTEM: UTM
COORDINATE_ZONE: 12
HORIZONTAL_UNITS: METERS
HORIZONTAL_RESOLUTION: 1.00000
SECONDARY_HORIZONTAL_DATUM: NAD27
XY_ORIGIN: 365044.00000 5144447.00000
SECONDARY_XY_ORIGIN: 365107.16400 5144235.34700
NATION: US
NATION: "SCIENCE
STATE: MT
NW_QUAD_CORNER_XY: 365566.43200 5144146.50300
NE_QUAD_CORNER_XY: 370367.56200 5144042.10900
SE_QUAD_CORNERY_XY: 370219.38600 5137097.57800
SW_QUAD_CORNER_XY: 365412.76500 5137201.98300
SECONDARY_NW_QUAD_XY: 365562.33800 5143928.30400
SECONDARY_NE_QUAD_XY: 370363.61400 5143823.90600
SECONDARY_SE_QUAD_XY: 370215.43900 5136879.41200
SECONDARY_SW_QUAD_XY: 365408.67200 5136983.82100
RMSE_XY: 3.30000
IMAGE_SOURCE: BLACK AND WHITE FILM
SOURCE_IMAGE_ID: NAPP 9485 036
SOURCE_IMAGE_DATE: 1995 08 20
SOURCE_IMAGE_ID: NAPP 9485 037
SOURCE_IMAGE_DATE: 1995 08 20
SOURCE_IMAGE_ID: NAPP 9485 035
SOURCE_IMAGE_DATE: 1995 08 20
SOURCE_IMAGE_ID: NAPP 8382 057
SOURCE_IMAGE_DATE: 1995 08 01
SOURCE_DEM_DATE: 1988 00 00
AGENCY: WESTERN MAPPING CENTER (WMC)
PRODUCER: UNDEFINED
PRODUCTION_SYSTEM: GIS/MAGIC
COMPRESSION: UNDEFINED
STANDARD_VERSION: 1996 12
METADATA_DATE: 2000 05 30
DATA_FILE_SIZE: 43087500
BYTE_COUNT: 5625
