FILENAME: O4611230.NWS.956545.tif
QUADRANGLE_NAME: MACDONALD PASS
QUADRANT: NW
WEST_LONGITUDE: -112 22 30.00000
EAST_LONGITUDE: -112 18 45.00000
NORTH_LATITUDE: 46 37 30.00000
SOUTH_LATITUDE: 46 33 45.00000
PRODUCTION_DATE: 1999 01 01
RASTER_ORDER: LEFT_RIGHT/TOP_BOTTOM
BAND_ORGANIZATION: SINGLE FILE
BAND_CONTENT: BLACK&WHITE
BAND_CONTENT: UNDEFINED
BAND_CONTENT: UNDEFINED
BITS_PER_PIXEL: 8
SAMPLES_AND_LINES: 5610 7680
HORIZONTAL_DATUM: NAD83
HORIZONTAL_COORDINATE_SYSTEM: UTM
COORDINATE_ZONE: 12
HORIZONTAL_UNITS: METERS
HORIZONTAL_RESOLUTION: 1.00000
SECONDARY_HORIZONTAL_DATUM: NAD27
XY_ORIGIN: 394230.00000 5164740.00000
SECONDARY_XY_ORIGIN: 394292.19000 5164527.83700
NATION: US
STATE: MT
NW_QUAD_CORNER_XY: 394736.25100 5164411.27400
NE_QUAD_CORNER_XY: 399520.92000 5164329.69300
SE_QUAD_CORNERY_XY: 399405.32200 5157384.88900
SW_QUAD_CORNER_XY: 394615.14700 5157466.47900
SECONDARY_NW_QUAD_XY: 394733.03300 5164192.95300
SECONDARY_NE_QUAD_XY: 399517.84700 5164111.37000
SECONDARY_SE_QUAD_XY: 399402.25100 5157166.60000
SECONDARY_SW_QUAD_XY: 394611.92900 5157248.19300
RMSE_XY: 3.95000
IMAGE_SOURCE: BLACK AND WHITE FILM
SOURCE_IMAGE_ID: NAPP 9486 95
SOURCE_IMAGE_DATE: 1995 08 20
SOURCE_DEM_DATE: 1991 00 00
AGENCY: WESTERN MAPPING CENTER (WMC)
PRODUCER: ANALYTICAL SURVEYS INC.
PRODUCTION_SYSTEM: ORBIT OR_RECTIFY V.5.2
COMPRESSION: UNDEFINED
STANDARD_VERSION: 1996 12
METADATA_DATE: 1999 01 06
DATA_FILE_SIZE: 43090410
BYTE_COUNT: 5610
