FILENAME: O4611229.NES.1076876.tif
QUADRANGLE_NAME: ELLISTON
QUADRANT: NE
WEST_LONGITUDE: -112 26 15.00000
EAST_LONGITUDE: -112 22 30.00000
NORTH_LATITUDE: 46 37 30.00000
SOUTH_LATITUDE: 46 33 45.00000
PRODUCTION_DATE: 2000 5 4
RASTER_ORDER: LEFT_RIGHT/TOP_BOTTOM
BAND_ORGANIZATION: SINGLE FILE
BAND_CONTENT: BLACK&WHITE
BAND_CONTENT: UNDEFINED
BAND_CONTENT: UNDEFINED
BITS_PER_PIXEL: 8
SAMPLES_AND_LINES: 5580 7639
HORIZONTAL_DATUM: NAD83
HORIZONTAL_COORDINATE_SYSTEM: UTM
COORDINATE_ZONE: 12
HORIZONTAL_UNITS: METERS
HORIZONTAL_RESOLUTION: 1.00000
SECONDARY_HORIZONTAL_DATUM: NAD27
XY_ORIGIN: 389458.00000 5164797.00000
SECONDARY_XY_ORIGIN: 389520.33600 5164584.80900
NATION: US
NATION: "SCIENCE
STATE: MT
NW_QUAD_CORNER_XY: 389951.59000 5164496.65000
NE_QUAD_CORNER_XY: 394736.25100 5164411.27400
SE_QUAD_CORNERY_XY: 394615.14700 5157466.47900
SW_QUAD_CORNER_XY: 389824.97900 5157551.86600
SECONDARY_NW_QUAD_XY: 389948.22500 5164278.33200
SECONDARY_NE_QUAD_XY: 394733.03300 5164192.95300
SECONDARY_SE_QUAD_XY: 394611.92900 5157248.19200
SECONDARY_SW_QUAD_XY: 389821.61500 5157333.58100
RMSE_XY: 1.10000
IMAGE_SOURCE: BLACK AND WHITE FILM
SOURCE_IMAGE_ID: NAPP 9486 048
SOURCE_IMAGE_DATE: 1995 08 20
SOURCE_IMAGE_ID: NAPP 9486 047
SOURCE_IMAGE_DATE: 1995 08 20
SOURCE_IMAGE_ID: NAPP 9486 049
SOURCE_IMAGE_DATE: 1995 08 20
SOURCE_DEM_DATE: 1997 00 00
AGENCY: WESTERN MAPPING CENTER (WMC)
PRODUCER: UNDEFINED
PRODUCTION_SYSTEM: GIS/MAGIC
COMPRESSION: UNDEFINED
STANDARD_VERSION: 1996 12
METADATA_DATE: 2000 05 31
DATA_FILE_SIZE: 42631200
BYTE_COUNT: 5580
