FILENAME: O4611225.SES.1077125.tif
QUADRANGLE_NAME: GRIFFIN CREEK
QUADRANT: SE
WEST_LONGITUDE: -112 56 15.00000
EAST_LONGITUDE: -112 52 30.00000
NORTH_LATITUDE: 46 33 45.00000
SOUTH_LATITUDE: 46 30 0.00000
PRODUCTION_DATE: 2000 5 26
RASTER_ORDER: LEFT_RIGHT/TOP_BOTTOM
BAND_ORGANIZATION: SINGLE FILE
BAND_CONTENT: BLACK&WHITE
BAND_CONTENT: UNDEFINED
BAND_CONTENT: UNDEFINED
BITS_PER_PIXEL: 8
SAMPLES_AND_LINES: 5632 7670
HORIZONTAL_DATUM: NAD83
HORIZONTAL_COORDINATE_SYSTEM: UTM
COORDINATE_ZONE: 12
HORIZONTAL_UNITS: METERS
HORIZONTAL_RESOLUTION: 1.00000
SECONDARY_HORIZONTAL_DATUM: NAD27
XY_ORIGIN: 350964.00000 5158672.00000
SECONDARY_XY_ORIGIN: 351027.36300 5158459.89000
NATION: US
NATION: "SCIENCE
STATE: MT
NW_QUAD_CORNER_XY: 351503.91000 5158371.64900
NE_QUAD_CORNER_XY: 356294.01400 5158255.88400
SE_QUAD_CORNERY_XY: 356129.01900 5151311.25200
SW_QUAD_CORNER_XY: 351333.41200 5151427.02900
SECONDARY_NW_QUAD_XY: 351499.37600 5158153.38900
SECONDARY_NE_QUAD_XY: 356289.62600 5158037.62200
SECONDARY_SE_QUAD_XY: 356124.63200 5151093.02400
SECONDARY_SW_QUAD_XY: 351328.87800 5151208.80500
RMSE_XY: 2.00000
IMAGE_SOURCE: BLACK AND WHITE FILM
SOURCE_IMAGE_ID: NAPP 8380 024
SOURCE_IMAGE_DATE: 1995 06 30
SOURCE_IMAGE_ID: NAPP 9489 002
SOURCE_IMAGE_DATE: 1995 08 28
SOURCE_IMAGE_ID: NAPP 9491 083
SOURCE_IMAGE_DATE: 1995 09 01
SOURCE_IMAGE_ID: NAPP 9492 022
SOURCE_IMAGE_DATE: 1995 09 12
SOURCE_IMAGE_ID: NAPP 8380 023
SOURCE_IMAGE_DATE: 1995 06 30
SOURCE_DEM_DATE: 1991 00 00
AGENCY: WESTERN MAPPING CENTER (WMC)
PRODUCER: UNDEFINED
PRODUCTION_SYSTEM: GIS/MAGIC
COMPRESSION: UNDEFINED
STANDARD_VERSION: 1996 12
METADATA_DATE: 2000 05 30
DATA_FILE_SIZE: 43203072
BYTE_COUNT: 5632
