FILENAME: O4611223.NWS.956493.tif
QUADRANGLE_NAME: AUSTIN
QUADRANT: NW
WEST_LONGITUDE: -112 15 0.00000
EAST_LONGITUDE: -112 11 15.00000
NORTH_LATITUDE: 46 45 0.00000
SOUTH_LATITUDE: 46 41 15.00000
PRODUCTION_DATE: 1998 12 29
RASTER_ORDER: LEFT_RIGHT/TOP_BOTTOM
BAND_ORGANIZATION: SINGLE FILE
BAND_CONTENT: BLACK&WHITE
BAND_CONTENT: UNDEFINED
BAND_CONTENT: UNDEFINED
BITS_PER_PIXEL: 8
SAMPLES_AND_LINES: 5580 7650
HORIZONTAL_DATUM: NAD83
HORIZONTAL_COORDINATE_SYSTEM: UTM
COORDINATE_ZONE: 12
HORIZONTAL_UNITS: METERS
HORIZONTAL_RESOLUTION: 1.00000
SECONDARY_HORIZONTAL_DATUM: NAD27
XY_ORIGIN: 404040.00000 5178450.00000
SECONDARY_XY_ORIGIN: 404101.82200 5178237.52300
NATION: US
STATE: MT
NW_QUAD_CORNER_XY: 404526.12100 5178141.75300
NE_QUAD_CORNER_XY: 409299.77300 5178067.78200
SE_QUAD_CORNERY_XY: 409194.97000 5171122.81400
SW_QUAD_CORNER_XY: 404415.80100 5171196.79400
SECONDARY_NW_QUAD_XY: 404523.19400 5177923.36200
SECONDARY_NE_QUAD_XY: 409296.99300 5177849.38900
SECONDARY_SE_QUAD_XY: 409192.19000 5170904.45300
SECONDARY_SW_QUAD_XY: 404412.87400 5170978.43600
RMSE_XY: 2.50000
IMAGE_SOURCE: BLACK AND WHITE FILM
SOURCE_IMAGE_ID: NAPP 9486 244
SOURCE_IMAGE_DATE: 1995 08 20
SOURCE_DEM_DATE: 1998 01 01
AGENCY: WESTERN MAPPING CENTER (WMC)
PRODUCER: ANALYTICAL SURVEYS INC.
PRODUCTION_SYSTEM: ORBIT OR_RECTIFY V.5.2
COMPRESSION: UNDEFINED
STANDARD_VERSION: 1996 12
METADATA_DATE: 1999 01 04
DATA_FILE_SIZE: 42692580
BYTE_COUNT: 5580
