FILENAME: O4611223.SES.956494.tif
QUADRANGLE_NAME: AUSTIN
QUADRANT: SE
WEST_LONGITUDE: -112 11 15.00000
EAST_LONGITUDE: -112 7 30.00000
NORTH_LATITUDE: 46 41 15.00000
SOUTH_LATITUDE: 46 37 30.00000
PRODUCTION_DATE: 1998 12 29
RASTER_ORDER: LEFT_RIGHT/TOP_BOTTOM
BAND_ORGANIZATION: SINGLE FILE
BAND_CONTENT: BLACK&WHITE
BAND_CONTENT: UNDEFINED
BAND_CONTENT: UNDEFINED
BITS_PER_PIXEL: 8
SAMPLES_AND_LINES: 5580 7650
HORIZONTAL_DATUM: NAD83
HORIZONTAL_COORDINATE_SYSTEM: UTM
COORDINATE_ZONE: 12
HORIZONTAL_UNITS: METERS
HORIZONTAL_RESOLUTION: 1.00000
SECONDARY_HORIZONTAL_DATUM: NAD27
XY_ORIGIN: 408720.00000 5171430.00000
SECONDARY_XY_ORIGIN: 408781.70000 5171217.74800
NATION: US
STATE: MT
NW_QUAD_CORNER_XY: 409194.97000 5171122.81400
NE_QUAD_CORNER_XY: 413974.14600 5171052.62800
SE_QUAD_CORNERY_XY: 413874.96300 5164107.72500
SW_QUAD_CORNER_XY: 409090.27600 5164177.91900
SECONDARY_NW_QUAD_XY: 409192.19000 5170904.45300
SECONDARY_NE_QUAD_XY: 413971.51200 5170834.26500
SECONDARY_SE_QUAD_XY: 413872.33000 5163889.39500
SECONDARY_SW_QUAD_XY: 409087.49600 5163959.59100
RMSE_XY: 1.35000
IMAGE_SOURCE: BLACK AND WHITE FILM
SOURCE_IMAGE_ID: NAPP 8388 78
SOURCE_IMAGE_DATE: 1995 08 09
SOURCE_DEM_DATE: 1998 01 01
AGENCY: WESTERN MAPPING CENTER (WMC)
PRODUCER: ANALYTICAL SURVEYS INC.
PRODUCTION_SYSTEM: ORBIT OR_RECTIFY V.5.2
COMPRESSION: UNDEFINED
STANDARD_VERSION: 1996 12
METADATA_DATE: 1999 01 04
DATA_FILE_SIZE: 42692580
BYTE_COUNT: 5580
