FILENAME: O4611219.NES.1078923.tif
QUADRANGLE_NAME: GRAVELY MOUNTAIN
QUADRANT: NE
WEST_LONGITUDE: -112 41 15.00000
EAST_LONGITUDE: -112 37 30.00000
NORTH_LATITUDE: 46 45 0.00000
SOUTH_LATITUDE: 46 41 15.00000
PRODUCTION_DATE: 2000 3 28
RASTER_ORDER: LEFT_RIGHT/TOP_BOTTOM
BAND_ORGANIZATION: SINGLE FILE
BAND_CONTENT: BLACK&WHITE
BAND_CONTENT: UNDEFINED
BAND_CONTENT: UNDEFINED
BITS_PER_PIXEL: 8
SAMPLES_AND_LINES: 5593 7654
HORIZONTAL_DATUM: NAD83
HORIZONTAL_COORDINATE_SYSTEM: UTM
COORDINATE_ZONE: 12
HORIZONTAL_UNITS: METERS
HORIZONTAL_RESOLUTION: 1.00000
SECONDARY_HORIZONTAL_DATUM: NAD27
XY_ORIGIN: 370593.00000 5179066.00000
SECONDARY_XY_ORIGIN: 370655.83800 5178853.30500
NATION: US
NATION: "SCIENCE
STATE: MT
NW_QUAD_CORNER_XY: 371110.76600 5178765.80600
NE_QUAD_CORNER_XY: 375884.36300 5178665.26900
SE_QUAD_CORNERY_XY: 375740.93200 5171720.37800
SW_QUAD_CORNER_XY: 370961.81600 5171820.92700
SECONDARY_NW_QUAD_XY: 371106.81500 5178547.43400
SECONDARY_NE_QUAD_XY: 375880.55800 5178446.89500
SECONDARY_SE_QUAD_XY: 375737.12800 5171502.03500
SECONDARY_SW_QUAD_XY: 370957.86500 5171602.58800
RMSE_XY: 1.70000
IMAGE_SOURCE: BLACK AND WHITE FILM
SOURCE_IMAGE_ID: NAPP 8386 056
SOURCE_IMAGE_DATE: 1995 08 05
SOURCE_IMAGE_ID: NAPP 8386 055
SOURCE_IMAGE_DATE: 1995 08 05
SOURCE_DEM_DATE: 1991 00 00
AGENCY: WESTERN MAPPING CENTER (WMC)
PRODUCER: UNDEFINED
PRODUCTION_SYSTEM: GIS/MAGIC
COMPRESSION: UNDEFINED
STANDARD_VERSION: 1996 12
METADATA_DATE: 2000 05 27
DATA_FILE_SIZE: 42814415
BYTE_COUNT: 5593
