FILENAME: O4611219.SES.1078925.tif
QUADRANGLE_NAME: GRAVELY MOUNTAIN
QUADRANT: SE
WEST_LONGITUDE: -112 41 15.00000
EAST_LONGITUDE: -112 37 30.00000
NORTH_LATITUDE: 46 41 15.00000
SOUTH_LATITUDE: 46 37 30.00000
PRODUCTION_DATE: 2000 3 28
RASTER_ORDER: LEFT_RIGHT/TOP_BOTTOM
BAND_ORGANIZATION: SINGLE FILE
BAND_CONTENT: BLACK&WHITE
BAND_CONTENT: UNDEFINED
BAND_CONTENT: UNDEFINED
BITS_PER_PIXEL: 8
SAMPLES_AND_LINES: 5597 7654
HORIZONTAL_DATUM: NAD83
HORIZONTAL_COORDINATE_SYSTEM: UTM
COORDINATE_ZONE: 12
HORIZONTAL_UNITS: METERS
HORIZONTAL_RESOLUTION: 1.00000
SECONDARY_HORIZONTAL_DATUM: NAD27
XY_ORIGIN: 370445.00000 5172121.00000
SECONDARY_XY_ORIGIN: 370507.87600 5171908.53200
NATION: US
NATION: "SCIENCE
STATE: MT
NW_QUAD_CORNER_XY: 370961.81600 5171820.92700
NE_QUAD_CORNER_XY: 375740.93200 5171720.37800
SE_QUAD_CORNERY_XY: 375597.65000 5164775.55600
SW_QUAD_CORNER_XY: 370813.02000 5164876.11800
SECONDARY_NW_QUAD_XY: 370957.86500 5171602.58800
SECONDARY_NE_QUAD_XY: 375737.12800 5171502.03500
SECONDARY_SE_QUAD_XY: 375593.84700 5164557.24700
SECONDARY_SW_QUAD_XY: 370809.07000 5164657.81200
RMSE_XY: 3.80000
IMAGE_SOURCE: BLACK AND WHITE FILM
SOURCE_IMAGE_ID: NAPP 8386 054
SOURCE_IMAGE_DATE: 1995 08 05
SOURCE_IMAGE_ID: NAPP 9485 029
SOURCE_IMAGE_DATE: 1995 08 20
SOURCE_IMAGE_ID: NAPP 8386 053
SOURCE_IMAGE_DATE: 1995 08 05
SOURCE_IMAGE_ID: NAPP 8386 055
SOURCE_IMAGE_DATE: 1995 08 05
SOURCE_DEM_DATE: 1991 00 00
AGENCY: WESTERN MAPPING CENTER (WMC)
PRODUCER: UNDEFINED
PRODUCTION_SYSTEM: GIS/MAGIC
COMPRESSION: UNDEFINED
STANDARD_VERSION: 1996 12
METADATA_DATE: 2000 05 27
DATA_FILE_SIZE: 42845035
BYTE_COUNT: 5597
