FILENAME: O4611219.SWS.1078926.tif
QUADRANGLE_NAME: GRAVELY MOUNTAIN
QUADRANT: SW
WEST_LONGITUDE: -112 45 0.00000
EAST_LONGITUDE: -112 41 15.00000
NORTH_LATITUDE: 46 41 15.00000
SOUTH_LATITUDE: 46 37 30.00000
PRODUCTION_DATE: 2000 3 28
RASTER_ORDER: LEFT_RIGHT/TOP_BOTTOM
BAND_ORGANIZATION: SINGLE FILE
BAND_CONTENT: BLACK&WHITE
BAND_CONTENT: UNDEFINED
BAND_CONTENT: UNDEFINED
BITS_PER_PIXEL: 8
SAMPLES_AND_LINES: 5603 7658
HORIZONTAL_DATUM: NAD83
HORIZONTAL_COORDINATE_SYSTEM: UTM
COORDINATE_ZONE: 12
HORIZONTAL_UNITS: METERS
HORIZONTAL_RESOLUTION: 1.00000
SECONDARY_HORIZONTAL_DATUM: NAD27
XY_ORIGIN: 365660.00000 5172226.00000
SECONDARY_XY_ORIGIN: 365723.02700 5172013.51400
NATION: US
NATION: "SCIENCE
STATE: MT
NW_QUAD_CORNER_XY: 366182.70800 5171925.27300
NE_QUAD_CORNER_XY: 370961.81600 5171820.92700
SE_QUAD_CORNERY_XY: 370813.02000 5164876.11800
SW_QUAD_CORNER_XY: 366028.39800 5164980.47700
SECONDARY_NW_QUAD_XY: 366178.61100 5171706.93600
SECONDARY_NE_QUAD_XY: 370957.86500 5171602.58800
SECONDARY_SE_QUAD_XY: 370809.07000 5164657.81200
SECONDARY_SW_QUAD_XY: 366024.30200 5164762.17300
RMSE_XY: 3.70000
IMAGE_SOURCE: BLACK AND WHITE FILM
SOURCE_IMAGE_ID: NAPP 9485 028
SOURCE_IMAGE_DATE: 1995 08 20
SOURCE_IMAGE_ID: NAPP 9485 071
SOURCE_IMAGE_DATE: 1995 08 20
SOURCE_IMAGE_ID: NAPP 9485 029
SOURCE_IMAGE_DATE: 1995 08 20
SOURCE_IMAGE_ID: NAPP 9485 027
SOURCE_IMAGE_DATE: 1995 08 20
SOURCE_IMAGE_ID: NAPP 8386 053
SOURCE_IMAGE_DATE: 1995 08 05
SOURCE_DEM_DATE: 1991 00 00
AGENCY: WESTERN MAPPING CENTER (WMC)
PRODUCER: UNDEFINED
PRODUCTION_SYSTEM: GIS/MAGIC
COMPRESSION: UNDEFINED
STANDARD_VERSION: 1996 12
METADATA_DATE: 2000 05 27
DATA_FILE_SIZE: 42913377
BYTE_COUNT: 5603
