FILENAME: O4611217.SES.1078905.tif
QUADRANGLE_NAME: BAILEY MOUNTAIN
QUADRANT: SE
WEST_LONGITUDE: -112 56 15.00000
EAST_LONGITUDE: -112 52 30.00000
NORTH_LATITUDE: 46 41 15.00000
SOUTH_LATITUDE: 46 37 30.00000
PRODUCTION_DATE: 2000 3 30
RASTER_ORDER: LEFT_RIGHT/TOP_BOTTOM
BAND_ORGANIZATION: SINGLE FILE
BAND_CONTENT: BLACK&WHITE
BAND_CONTENT: UNDEFINED
BAND_CONTENT: UNDEFINED
BITS_PER_PIXEL: 8
SAMPLES_AND_LINES: 5621 7670
HORIZONTAL_DATUM: NAD83
HORIZONTAL_COORDINATE_SYSTEM: UTM
COORDINATE_ZONE: 12
HORIZONTAL_UNITS: METERS
HORIZONTAL_RESOLUTION: 1.00000
SECONDARY_HORIZONTAL_DATUM: NAD27
XY_ORIGIN: 351305.00000 5172562.00000
SECONDARY_XY_ORIGIN: 351368.35800 5172349.50400
NATION: US
NATION: "SCIENCE
STATE: MT
NW_QUAD_CORNER_XY: 351845.44100 5172261.09000
NE_QUAD_CORNER_XY: 356624.52000 5172145.35400
SE_QUAD_CORNERY_XY: 356459.18100 5165200.58500
SW_QUAD_CORNER_XY: 351674.58700 5165316.33600
SECONDARY_NW_QUAD_XY: 351840.90500 5172042.76400
SECONDARY_NE_QUAD_XY: 356620.13000 5171927.02400
SECONDARY_SE_QUAD_XY: 356454.79200 5164982.28900
SECONDARY_SW_QUAD_XY: 351670.05100 5165098.04300
RMSE_XY: 3.00000
IMAGE_SOURCE: BLACK AND WHITE FILM
SOURCE_IMAGE_ID: NAPP 9489 061
SOURCE_IMAGE_DATE: 1995 08 28
SOURCE_IMAGE_ID: NAPP 9492 024
SOURCE_IMAGE_DATE: 1995 09 12
SOURCE_IMAGE_ID: NAPP 9489 060
SOURCE_IMAGE_DATE: 1995 08 28
SOURCE_DEM_DATE: 1991 00 00
AGENCY: WESTERN MAPPING CENTER (WMC)
PRODUCER: UNDEFINED
PRODUCTION_SYSTEM: GIS/MAGIC
COMPRESSION: UNDEFINED
STANDARD_VERSION: 1996 12
METADATA_DATE: 2000 05 27
DATA_FILE_SIZE: 43118691
BYTE_COUNT: 5621
